BEGIN:VCALENDAR
VERSION:2.0
PRODID:-//Centro Sefarad Israel - ECPv6.15.20//NONSGML v1.0//EN
CALSCALE:GREGORIAN
METHOD:PUBLISH
X-ORIGINAL-URL:https://www.sefarad-israel.es
X-WR-CALDESC:Eventos para Centro Sefarad Israel
REFRESH-INTERVAL;VALUE=DURATION:PT1H
X-Robots-Tag:noindex
X-PUBLISHED-TTL:PT1H
BEGIN:VTIMEZONE
TZID:Europe/Madrid
BEGIN:DAYLIGHT
TZOFFSETFROM:+0100
TZOFFSETTO:+0200
TZNAME:CEST
DTSTART:20250330T010000
END:DAYLIGHT
BEGIN:STANDARD
TZOFFSETFROM:+0200
TZOFFSETTO:+0100
TZNAME:CET
DTSTART:20251026T010000
END:STANDARD
BEGIN:DAYLIGHT
TZOFFSETFROM:+0100
TZOFFSETTO:+0200
TZNAME:CEST
DTSTART:20260329T010000
END:DAYLIGHT
BEGIN:STANDARD
TZOFFSETFROM:+0200
TZOFFSETTO:+0100
TZNAME:CET
DTSTART:20261025T010000
END:STANDARD
BEGIN:DAYLIGHT
TZOFFSETFROM:+0100
TZOFFSETTO:+0200
TZNAME:CEST
DTSTART:20270328T010000
END:DAYLIGHT
BEGIN:STANDARD
TZOFFSETFROM:+0200
TZOFFSETTO:+0100
TZNAME:CET
DTSTART:20271031T010000
END:STANDARD
END:VTIMEZONE
BEGIN:VEVENT
DTSTART;TZID=Europe/Madrid:20260424T193000
DTEND;TZID=Europe/Madrid:20260424T193000
DTSTAMP:20260424T053654
CREATED:20260325T130042Z
LAST-MODIFIED:20260420T084308Z
UID:9374-1777059000-1777059000@www.sefarad-israel.es
SUMMARY:Haketía\, haketìa
DESCRIPTION:Proyección\nEl Círculo de Bellas Artes de Madrid acoge la proyección de Haketía\, haketìa\, un documental dirigido por Line Amselem y Pierre-Emmanuel Dersoir-Vermande que recupera la memoria de una lengua en peligro de desaparición y de la cultura que la sostiene. \nLa haketía\, variante del judeoespañol hablada en el norte de Marruecos\, es hoy un patrimonio frágil que sobrevive en los recuerdos\, las voces y los relatos de quienes la han mantenido viva. A través de entrevistas y testimonios —entre ellos los de Bella Cohen Clougher y Abraham Bengio—\, la película traza un recorrido íntimo por una identidad marcada por el exilio\, la transmisión y la convivencia de tradiciones españolas\, judías y marroquíes . \nCon una duración de 52 minutos y rodada en varios contextos entre Francia\, España y Marruecos\, la obra constituye el primer documental dedicado íntegramente a esta cultura judeo-hispano-marroquí\, ofreciendo una mirada sensible y necesaria sobre la preservación de las lenguas y memorias en riesgo . \nEsta proyección en Madrid cuenta con el apoyo del Centro Sefarad-Israel y la Casa de Velázquez\, en el marco de un recorrido internacional que llevará el documental también a Marruecos. \nPresentación a cargo de Luis González Fernández\, director de estudios científicos de la Casa de Velázquez – EHEHI \nReserva de Entradas Cine Estudio CBA aquí\n 
URL:https://www.sefarad-israel.es/evento/haketia-documental/
LOCATION:Cine estudio del Círculo de Bellas Artes\, Calle Marqués de Casa Riera\, 4\, Madrid\, Comunidad de Madrid\, España
CATEGORIES:Cine
ATTACH;FMTTYPE=image/png:https://www.sefarad-israel.es/wp-content/uploads/2026/03/Haketia.png
END:VEVENT
BEGIN:VEVENT
DTSTART;TZID=Europe/Madrid:20260427T190000
DTEND;TZID=Europe/Madrid:20260427T190000
DTSTAMP:20260424T053654
CREATED:20260225T122847Z
LAST-MODIFIED:20260313T092345Z
UID:9061-1777316400-1777316400@www.sefarad-israel.es
SUMMARY:Breve introducción a la cábala catalana
DESCRIPTION:Un recorrido por los orígenes y el desarrollo de la mística cabalística en la Cataluña medieval\, una de las corrientes más influyentes del judaísmo europeo. \nLa sesión se centrará en la figura de Isaac el Ciego\, considerado por la tradición el primer pensador en emplear el término “cábala” y en introducir el concepto de Ein Sof para referirse al Dios infinito. Se abordará también la proyección de sus enseñanzas en Cataluña y su posible vínculo con Najmánides\, uno de los místicos más influyentes de la península ibérica\, cuya relevancia ha sido comparada con la de Maimónides. \nAsimismo\, se analizará la teoría de las diez sefirot —concepto ya presente en el Libro de la Formación— y el contexto histórico de la Disputa de Barcelona de 1263\, organizada por Jaime I el Conquistador\, en la que Najmánides defendió públicamente el judaísmo antes de partir al exilio. \nLa conferencia será impartida por la Dra. Jadwiga Clea Moreno-Szypowska\, profesora adjunta en el Instituto de Investigación Literaria de la Academia Polaca de Ciencias\, cuya investigación conecta literatura\, filosofía y pensamiento religioso desde una perspectiva interdisciplinar. \nActividad en el canal de YouTube de Centro Sefarad-Israel\n  \nhttps://youtube.com/live/PEIA-AeJo-Q
URL:https://www.sefarad-israel.es/evento/breve-introduccion-a-la-cabala-catalana/
LOCATION:Actividad online. Canal de YouTube de Centro Sefarad-Israel
CATEGORIES:Conferencia
ATTACH;FMTTYPE=image/jpeg:https://www.sefarad-israel.es/wp-content/uploads/2026/02/cabalista-observant-l-ein-sof-e-n_4_1200x630-social_revers.jpg
END:VEVENT
BEGIN:VEVENT
DTSTART;TZID=Europe/Madrid:20260428T180000
DTEND;TZID=Europe/Madrid:20260428T180000
DTSTAMP:20260424T053654
CREATED:20260407T153201Z
LAST-MODIFIED:20260410T083736Z
UID:9414-1777399200-1777399200@www.sefarad-israel.es
SUMMARY:Cervantes y la expulsión de los moriscos en el Quijote
DESCRIPTION:El capítulo LIV de la segunda parte del Quijote\, el capítulo central de los tres en los que Sancho adquiere el máximo protagonismo en toda la obra. Es el momento en el que asistimos al fin del gobierno de Sancho Panza hasta su rescate de la sima\, pasando por el encuentro con Ricote. \nPues bien\, es Ricote\, el vecino de Sancho Panza\, un morisco que al regresar del exilio\, con el fin de recoger sus pertenencias\, entabla conversación con su añorado amigo. Ricote echa de menos España y en su discurso profiere las palabras: «Doquiera que estamos lloramos por España»\, y lo hace justamente dirigiéndose a Sancho que ha dejado de ser gobernador de la ínsula. \nEn este pasaje Cervantes nos plantea el tema de la expulsión de los moriscos\, uno de los acontecimientos sociales e históricos que tuvieron mayor trascendencia para toda España en los siglos XVI y XVII. \nLa conferencia será impartida por la Dra. Alicia Villar Lecumberri\, profesora titular de la Universidad Internacional de Valencia\, reconocida experta en estudios cervantinos y vicepresidenta de la Asociación de Cervantistas (para el Estudio y difusión de la vida y la obra de Miguel de Cervantes). \nCentro Sefarad-Israel (C/ Mayor\, 69 – Madrid)\nEntrada libre hasta completar aforo
URL:https://www.sefarad-israel.es/evento/cervantes-y-la-expulsion-de-los-moriscos-en-el-quijote/
LOCATION:Centro Sefarad-Israel\, Calle Mayor\, 69\, Madrid\, Comunidad de Madrid\, 28013\, España
CATEGORIES:#mescervantino26,Conferencia
ATTACH;FMTTYPE=image/png:https://www.sefarad-israel.es/wp-content/uploads/2026/03/mes-cervantino.png
END:VEVENT
BEGIN:VEVENT
DTSTART;TZID=Europe/Madrid:20260429T180000
DTEND;TZID=Europe/Madrid:20260429T180000
DTSTAMP:20260424T053654
CREATED:20260324T100353Z
LAST-MODIFIED:20260324T100709Z
UID:9327-1777485600-1777485600@www.sefarad-israel.es
SUMMARY:Jerry Lewis: el humor en el límite
DESCRIPTION:Con motivo del centenario del nacimiento de Jerry Lewis (Joseph Levitch)\, esta actividad propone una aproximación a una de las figuras más influyentes y complejas del humor del siglo XX. Actor\, director y guionista\, Lewis redefinió los códigos de la comedia a través de una fisicalidad extrema\, un lenguaje visual innovador y una capacidad única para explorar lo absurdo como forma de crítica cultural. \nEl encuentro abordará su vínculo con la tradición del humor judío\, en diálogo con figuras como los hermanos Marx o Mel Brooks\, donde la autoparodia\, la ironía y la subversión se convierten en herramientas de identidad y resistencia. A través de fragmentos audiovisuales y análisis contextual\, se revisará su impacto en la comedia contemporánea\, desde el cine hasta formatos televisivos como Saturday Night Live\, así como su recepción desigual entre Estados Unidos y Europa\, donde fue reivindicado como autor cinematográfico. \nAsimismo\, se abrirá una reflexión sobre los límites del humor a partir de The Day the Clown Cried (1972)\, su proyecto más controvertido e inédito durante décadas. La película\, que intentaba abordar el Holocausto desde el registro del slapstick\, plantea interrogantes éticos y estéticos sobre la representación del trauma y el papel del humor ante lo indecible. \nLa sesión contará con la participación del cineasta Alejo Flah\, guionista de cine y televisión argentino\, cuya trayectoria combina la escritura audiovisual con la dirección. Ha participado en proyectos como la miniserie Vientos de agua (2005)\, dirigida por Juan José Campanella\, y es autor del largometraje documental Rerum Novarum (2001). Entre sus trabajos como director destacan El amor y otras historias (2014) y Taxi a Gibraltar (2019)\, consolidando una filmografía marcada por el cruce entre géneros y el interés por los relatos contemporáneos. \nCentro Sefarad-Israel\, Madrid\nEntrada libre hasta completar aforo
URL:https://www.sefarad-israel.es/evento/jerry-lewis-el-humor-en-el-limite/
LOCATION:Centro Sefarad-Israel\, Calle Mayor\, 69\, Madrid\, Comunidad de Madrid\, 28013\, España
CATEGORIES:Cine,Coloquio
ATTACH;FMTTYPE=image/png:https://www.sefarad-israel.es/wp-content/uploads/2026/03/header-Jerry-Lewis.png
END:VEVENT
BEGIN:VEVENT
DTSTART;TZID=Europe/Madrid:20260430T180000
DTEND;TZID=Europe/Madrid:20260430T180000
DTSTAMP:20260424T053654
CREATED:20260323T100612Z
LAST-MODIFIED:20260407T160128Z
UID:9298-1777572000-1777572000@www.sefarad-israel.es
SUMMARY:Entre ausencia y memoria: lo sefardí en la obra de Cervantes
DESCRIPTION:La profesora Rosa Navarro\, de la Universidad Autónoma de Madrid\, ofrece una aproximación al universo sefardí en la obra de Miguel de Cervantes desde una perspectiva histórica y literaria. \nEn un contexto marcado por la expulsión de los judíos de España\, pero en el que su presencia seguía viva en el imaginario cultural\, la sesión analizará cómo Cervantes articula las nociones de lo hebreo\, lo judío y lo converso a través de sus textos. A partir de ejemplos de Don Quijote de la Mancha\, las Novelas ejemplares y su producción teatral\, se explorará la ambigüedad cervantina ante los estereotipos de su tiempo. \nNavarro Romero (Ciudad Real\, 1982) es escritora y profesora universitaria. Doctora por la Universidad Autónoma de Madrid\, su investigación se centra en la teoría literaria y el microrrelato. En 2023 obtuvo el Premio Tigre Juan de novela por Niña con monstruo dentro. \nLa conferencia abordará asimismo el posible cuestionamiento que subyace en su obra respecto a las jerarquías sociales basadas en la limpieza de sangre\, ofreciendo una lectura que pone en diálogo literatura\, identidad y memoria. Una invitación a redescubrir la complejidad de Cervantes y a reconsiderar su obra más allá de interpretaciones simplificadoras\, en el marco del Siglo de Oro español. \nCentro Sefarad-Israel (C/ Mayor\, 69 · Madrid)\nEntrada libre hasta completar aforo
URL:https://www.sefarad-israel.es/evento/entre-ausencia-y-memoria-lo-sefardi-en-la-obra-de-cervantes/
LOCATION:Centro Sefarad-Israel\, Calle Mayor\, 69\, Madrid\, Comunidad de Madrid\, 28013\, España
CATEGORIES:#mescervantino26,Conferencia,Libro
ATTACH;FMTTYPE=image/png:https://www.sefarad-israel.es/wp-content/uploads/2026/03/mes-cervantino.png
END:VEVENT
END:VCALENDAR