BEGIN:VCALENDAR
VERSION:2.0
PRODID:-//Centro Sefarad Israel - ECPv6.15.20//NONSGML v1.0//EN
CALSCALE:GREGORIAN
METHOD:PUBLISH
X-ORIGINAL-URL:https://www.sefarad-israel.es
X-WR-CALDESC:Eventos para Centro Sefarad Israel
REFRESH-INTERVAL;VALUE=DURATION:PT1H
X-Robots-Tag:noindex
X-PUBLISHED-TTL:PT1H
BEGIN:VTIMEZONE
TZID:Europe/Madrid
BEGIN:DAYLIGHT
TZOFFSETFROM:+0100
TZOFFSETTO:+0200
TZNAME:CEST
DTSTART:20250330T010000
END:DAYLIGHT
BEGIN:STANDARD
TZOFFSETFROM:+0200
TZOFFSETTO:+0100
TZNAME:CET
DTSTART:20251026T010000
END:STANDARD
BEGIN:DAYLIGHT
TZOFFSETFROM:+0100
TZOFFSETTO:+0200
TZNAME:CEST
DTSTART:20260329T010000
END:DAYLIGHT
BEGIN:STANDARD
TZOFFSETFROM:+0200
TZOFFSETTO:+0100
TZNAME:CET
DTSTART:20261025T010000
END:STANDARD
BEGIN:DAYLIGHT
TZOFFSETFROM:+0100
TZOFFSETTO:+0200
TZNAME:CEST
DTSTART:20270328T010000
END:DAYLIGHT
BEGIN:STANDARD
TZOFFSETFROM:+0200
TZOFFSETTO:+0100
TZNAME:CET
DTSTART:20271031T010000
END:STANDARD
END:VTIMEZONE
BEGIN:VEVENT
DTSTART;TZID=Europe/Madrid:20260303T180000
DTEND;TZID=Europe/Madrid:20260303T180000
DTSTAMP:20260424T064400
CREATED:20260219T085911Z
LAST-MODIFIED:20260302T083712Z
UID:9025-1772560800-1772560800@www.sefarad-israel.es
SUMMARY:La indomable. Olga Benario en sus cartas y en los archivos de la Gestapo
DESCRIPTION:En 1935\, Olga Benario\, activista judía originaria de Múnich y agente de la Comintern\, fue enviada a Brasil con la misión de proteger al revolucionario Luis Carlos Prestes. Tras el fracaso del intento de golpe de Estado\, fue extraditada a la Alemania nazi cuando estaba embarazada de siete meses\, donde dio a luz a su hija Anita. \nA través de sus cartas personales y de los archivos de la Gestapo\, esta propuesta reconstruye su vida desde la extradición hasta su asesinato en un campo de concentración nazi\, ofreciendo un retrato íntimo y documental de una figura clave de la resistencia antifascista europea. \nLos documentos serán presentados en una lectura escénica a cargo de los actores Gabriela Börschmann Ziegler\, Martin Molitor y Ute Kaiser\, en alemán con subtítulos en español. \nLa actividad cuenta con el apoyo de la Embajada de Alemania en España. \nCentro Sefarad-Israel (C/ Mayor\, 69 – Madrid)\nEntrada libre hasta completar aforo
URL:https://www.sefarad-israel.es/evento/la-indomable-olga-benario-en-sus-cartas-y-en-los-archivos-de-la-gestapo/
LOCATION:Centro Sefarad-Israel\, Calle Mayor\, 69\, Madrid\, Comunidad de Madrid\, 28013\, España
CATEGORIES:Performance
ATTACH;FMTTYPE=image/jpeg:https://www.sefarad-israel.es/wp-content/uploads/2026/02/BENARIO018-verhaftungsfotos-1926.jpg
END:VEVENT
BEGIN:VEVENT
DTSTART;TZID=Europe/Madrid:20260304T180000
DTEND;TZID=Europe/Madrid:20260304T180000
DTSTAMP:20260424T064400
CREATED:20251218T090842Z
LAST-MODIFIED:20260202T132434Z
UID:8430-1772647200-1772647200@www.sefarad-israel.es
SUMMARY:Lo que queda de nuestras vidas\, de Zeruya Shalev
DESCRIPTION:En el marco del ciclo Escritoras judías: identidad\, memoria y exilio\, el Centro Sefarad-Israel propone la lectura de Lo que queda de nuestras vidas\, una novela intensa y conmovedora de la escritora israelí Zeruya Shalev\, una de las voces más reconocidas de la literatura contemporánea en hebreo. \nA través de una prosa delicada y profundamente emocional\, Shalev explora las grietas de la vida afectiva\, las relaciones familiares y la persistencia del deseo y del dolor. La novela indaga en aquello que permanece tras la ruptura\, el paso del tiempo y las decisiones que marcan una vida\, situando la intimidad en el centro del relato. \nLa sesión invita a una lectura compartida y a un diálogo abierto en torno a la memoria personal\, los vínculos y la identidad\, proponiendo una reflexión colectiva sobre la fragilidad y la resistencia emocional en la experiencia contemporánea. \n Actividad gratuita. Inscripción previa obligatoria en el enlace de abajo
URL:https://www.sefarad-israel.es/evento/lo-que-queda-de-nuestras-vidas-de-zeruya-shalev/
LOCATION:Centro Sefarad-Israel\, Calle Mayor\, 69\, Madrid\, Comunidad de Madrid\, 28013\, España
CATEGORIES:Club de lectura,clubdelectura2026
ATTACH;FMTTYPE=image/jpeg:https://www.sefarad-israel.es/wp-content/uploads/2025/12/Lo-que-queda-scaled.jpg
END:VEVENT
BEGIN:VEVENT
DTSTART;TZID=Europe/Madrid:20260306T190000
DTEND;TZID=Europe/Madrid:20260306T190000
DTSTAMP:20260424T064400
CREATED:20260130T105027Z
LAST-MODIFIED:20260309T113353Z
UID:8796-1772823600-1772823600@www.sefarad-israel.es
SUMMARY:Will Eisner. Un siglo de arte secuencial
DESCRIPTION:Con motivo del aniversario del nacimiento de Will Eisner (6 de marzo)\, esta presentación online propone un recorrido por la figura y el legado de uno de los grandes renovadores del cómic moderno y referente fundamental del llamado arte secuencial. \nEl libro Will Eisner. Un siglo de arte secuencial analiza su aportación decisiva a la narrativa gráfica\, su influencia en generaciones posteriores de autores y su papel clave en el reconocimiento del cómic como un lenguaje artístico y cultural de pleno derecho. A través de una mirada crítica y divulgativa\, la obra sitúa el trabajo de Eisner en el contexto de la cultura visual contemporánea y reflexiona sobre el valor del cómic como forma de expresión\, memoria y experimentación narrativa. \nEl encuentro contará con la participación de su autor\, Moisés Hassan Bendahan\, acompañado por David Aliaga\, en un diálogo que abordará la vigencia del legado de Eisner\, el lugar del cómic en el panorama cultural actual y su creciente presencia en los circuitos culturales y académicos. \nMoisés Hassan Bendahan es doctor en Literatura por la Universidad de Stony Brook y ha desarrollado una trayectoria vinculada al estudio y la divulgación del cómic a través de distintos proyectos editoriales y críticos. Actualmente ejerce como docente de lengua española en Nueva York\, ciudad natal de Will Eisner. \nActividad en el canal de YouTube de Centro Sefarad-Israel
URL:https://www.sefarad-israel.es/evento/will-eisner-un-siglo-de-arte-secuencial/
LOCATION:Actividad online. Canal de YouTube de Centro Sefarad-Israel
CATEGORIES:Conversaciones,Libro,Online
ATTACH;FMTTYPE=image/jpeg:https://www.sefarad-israel.es/wp-content/uploads/2026/01/Eisner-1.jpg
END:VEVENT
BEGIN:VEVENT
DTSTART;TZID=Europe/Madrid:20260310T180000
DTEND;TZID=Europe/Madrid:20260310T200000
DTSTAMP:20260424T064400
CREATED:20251202T115437Z
LAST-MODIFIED:20260224T143223Z
UID:8308-1773165600-1773172800@www.sefarad-israel.es
SUMMARY:“Cada historia cuenta” – 4ª sesión: Implementación en el aula y evaluación final
DESCRIPTION:La cuarta y última sesión está dedicada a compartir experiencias de implementación de Stories that Move en el aula. El profesorado podrá intercambiar conclusiones\, resolver dudas prácticas y participar en la evaluación final de la formación\, consolidando los aprendizajes adquiridos para aplicar la herramienta de manera eficaz en contextos educativos diversos. \nLa Casa de Ana Frank en colaboración con la Universidad de Barcelona y Centro Sefarad-Israel\, ofrece la formación Stories that Move\, dirigida a educadores en la que se trabajarán herramientas didácticas para abordar el antisemitismo\, el Holocausto y la discriminación en el aula. El objetivo de esta iniciativa es que el alumnado aprenda sobre estas temáticas a través del storytelling\, de historias y experiencias reales de jóvenes\, en un entorno seguro de aprendizaje. \nStories that Move: formación para educadores
URL:https://www.sefarad-israel.es/evento/cada-historia-cuenta-4a-sesion-implementacion-en-el-aula-y-evaluacion-final/
LOCATION:Actividad online. Canal de YouTube de Centro Sefarad-Israel
CATEGORIES:Online,Stories that Move,Taller
ATTACH;FMTTYPE=image/jpeg:https://www.sefarad-israel.es/wp-content/uploads/2025/12/20250318-misericordia-web-1-scaled.jpg
END:VEVENT
BEGIN:VEVENT
DTSTART;TZID=Europe/Madrid:20260311T180000
DTEND;TZID=Europe/Madrid:20260311T180000
DTSTAMP:20260424T064400
CREATED:20260224T095425Z
LAST-MODIFIED:20260225T121019Z
UID:9039-1773252000-1773252000@www.sefarad-israel.es
SUMMARY:La represión de la masonería femenina en España: víctimas y verdugos
DESCRIPTION:En esta conferencia\, María José Turrión García\, doctora en Historia Contemporánea por la Universidad de Salamanca\, analizará la persecución de la masonería femenina en España\, con especial atención al periodo franquista y al funcionamiento del Tribunal Especial de Represión de la Masonería y el Comunismo. \nEspecialista en memoria histórica\, archivos de represión e historia de las mujeres\, ha pertenecido al Cuerpo Facultativo de Archiveros del Estado y ha desempeñado responsabilidades como jefa de la Biblioteca de la Sección Guerra Civil del Archivo Histórico Nacional\, subdirectora del Archivo de la Guerra Civil y directora del Centro Documental de la Memoria Histórica (CDMH). Es experta en los fondos del Archivo General de la Guerra Civil Española. \nA partir del análisis de documentación original y expedientes judiciales\, la ponente abordará las trayectorias de mujeres masonas represaliadas por su compromiso con la libertad de conciencia y la igualdad\, así como los mecanismos institucionales que articularon su persecución. \nSu trayectoria incluye más de un centenar de conferencias\, publicaciones especializadas y la dirección de la colección «Memoria de Mujer» (Universidad de Salamanca)\, centrada en memoria histórica e historia de las mujeres. \nCentro Sefarad-Israel (C/ Mayor\, 69 – Madrid)\nEntrada libre hasta completar aforo
URL:https://www.sefarad-israel.es/evento/la-represion-de-la-masoneria-femenina-en-espana-victimas-y-verdugos/
LOCATION:Centro Sefarad-Israel\, Calle Mayor\, 69\, Madrid\, Comunidad de Madrid\, 28013\, España
CATEGORIES:Conferencia
ATTACH;FMTTYPE=image/jpeg:https://www.sefarad-israel.es/wp-content/uploads/2025/05/Web_expo_judeomasonico.jpg
END:VEVENT
BEGIN:VEVENT
DTSTART;TZID=Europe/Madrid:20260312T180000
DTEND;TZID=Europe/Madrid:20260312T180000
DTSTAMP:20260424T064400
CREATED:20260219T115505Z
LAST-MODIFIED:20260224T145540Z
UID:9028-1773338400-1773338400@www.sefarad-israel.es
SUMMARY:Corazones hambrientos
DESCRIPTION:En el marco del Día Internacional de la Mujer\, se presenta la primera edición en español de esta obra de Anzia Yezierska\, publicada por Ladera Norte\, que recupera una voz esencial de la literatura judeoestadounidense del siglo XX. Aparecida en 1920\, reúne relatos ambientados en el Lower East Side de Nueva York\, donde los inmigrantes judíos afrontaban pobreza\, antisemitismo y explotación mientras perseguían el sueño americano. \nNacida hacia 1880 en una familia judía polaca que emigró huyendo de los pogromos del Imperio ruso\, Yezierska trabajó como costurera\, lavandera y sirvienta antes de abrirse paso como escritora. Su literatura\, intensa y emocional\, se nutre de esa experiencia: el hambre material y el anhelo de dignidad\, amor y reconocimiento atraviesan unas historias protagonizadas por mujeres que luchan por afirmar su identidad. \nEn esta sesión\, Mercedes Monmany conversará con Esther Bendahan\, con la moderación de Ricardo Cayuela\, sobre la vigencia de esta autora singular —mujer\, judía\, inmigrante y rebelde— y la actualidad de una obra que dialoga con debates contemporáneos sobre migración\, género y justicia social.
URL:https://www.sefarad-israel.es/evento/corazones-hambrientos/
LOCATION:Centro Sefarad-Israel\, Calle Mayor\, 69\, Madrid\, Comunidad de Madrid\, 28013\, España
CATEGORIES:Libro,Presentación
ATTACH;FMTTYPE=image/jpeg:https://www.sefarad-israel.es/wp-content/uploads/2026/02/LN031_CUB-Corazones-hambrientos-.jpg
END:VEVENT
BEGIN:VEVENT
DTSTART;TZID=Europe/Madrid:20260316T180000
DTEND;TZID=Europe/Madrid:20260316T180000
DTSTAMP:20260424T064400
CREATED:20260225T091931Z
LAST-MODIFIED:20260225T092023Z
UID:9057-1773684000-1773684000@www.sefarad-israel.es
SUMMARY:Joyas de mujeres judeoespañolas
DESCRIPTION:Este concierto-taller ofrece un viaje musical por la memoria sefardí a través de las kantigas transmitidas desde la expulsión de 1492. Interpretadas en judeoespañol\, conservan el castellano antiguo enriquecido con palabras en hebreo\, árabe o turco\, reflejo de los caminos del exilio y del diálogo entre culturas. \nLinda Luz\, nacida en Francia y de origen sefardí tunecino\, inició su búsqueda siendo adolescente al descubrir lo que le describieron como “español de Turquía”. Aquella revelación la llevó a investigar la historia y la vida de las comunidades sefardíes tras la expulsión. Profesora de español\, encontró en estas canciones una herramienta pedagógica para trabajar lengua\, memoria y convivencia cultural. Más adelante profundizó en el estudio del judeoespañol y la etnomusicología en Aix-en-Provence y en el INALCO de París. \nEl repertorio recorre el ciclo vital: canciones de cuna\, de amor y desamor\, de boda\, de cocina o de despedida\, como la célebre “Adiós querida”. Son melodías suaves y nostálgicas\, pero también llenas de vida\, que han acompañado durante siglos la intimidad familiar. \nEl título rinde homenaje a las mujeres que preservaron este legado\, transmitiéndolo de madre a hija como una auténtica joya cultural. Acompañada por el guitarrista Claude Maurin\, Linda Luz invita al público a cantar y compartir una tradición viva. \nCentro Sefarad-Israel (C/ Mayor\, 69 – Madrid)\nEntrada libre hasta completar aforo
URL:https://www.sefarad-israel.es/evento/joyas-de-mujeres-judeoespanolas/
LOCATION:Centro Sefarad-Israel\, Calle Mayor\, 69\, Madrid\, Comunidad de Madrid\, 28013\, España
CATEGORIES:Concierto
ATTACH;FMTTYPE=image/png:https://www.sefarad-israel.es/wp-content/uploads/2025/06/header-web-1024-x-364-px.png
END:VEVENT
BEGIN:VEVENT
DTSTART;TZID=Europe/Madrid:20260318T180000
DTEND;TZID=Europe/Madrid:20260318T180000
DTSTAMP:20260424T064400
CREATED:20260212T105536Z
LAST-MODIFIED:20260212T110409Z
UID:8958-1773856800-1773856800@www.sefarad-israel.es
SUMMARY:¿Cómo ha representado la cultura española la Shoah?
DESCRIPTION:Catálogo HORES: Creación cultural y representación del Holocausto en España\n¿Cómo ha representado la cultura española la Shoah? ¿Qué lugar ocupa el Holocausto en la literatura\, el cine o las artes escénicas de nuestro país? La recepción y representación de este acontecimiento histórico en España ha seguido caminos propios\, a menudo vinculados a nuestra memoria histórica\, a los debates sobre la violencia del siglo XX y a los procesos de construcción de la memoria democrática. \nEl proyecto académico HORES (Holocausto y su Representación en España) analiza el papel de los creadores españoles en la configuración de la memoria global del Holocausto a través de las distintas manifestaciones culturales que lo han tematizado desde 1933 hasta la actualidad. Su trabajo ofrece una panorámica rigurosa sobre cómo la producción cultural española ha dialogado con la Shoah y ha contribuido a su transmisión\, interpretación y resignificación. \nEn esta mesa redonda\, Luisa Juárez-Hervás\, Lorena Silos Ribas y María Jesús Fernández-Gil (Universidad de Alcalá)\, junto a Israel Doncel Martín (Universidad Carlos III)\, presentarán los principales resultados del estudio y abrirán un espacio de conversación con el público sobre los retos y particularidades de la representación del Holocausto en España. \nCentro Sefarad-Israel (C/ Mayor\, 69 – Madrid)\nEntrada libre hasta completar aforo\nMás información: https://www.proyecto-hores.es
URL:https://www.sefarad-israel.es/evento/como-ha-representado-la-cultura-espanola-la-shoah/
LOCATION:Centro Sefarad-Israel\, Calle Mayor\, 69\, Madrid\, Comunidad de Madrid\, 28013\, España
CATEGORIES:Mesa redonda
ATTACH;FMTTYPE=image/jpeg:https://www.sefarad-israel.es/wp-content/uploads/2024/12/20250123-La-Voz-Supervivientes-Web.jpg
END:VEVENT
BEGIN:VEVENT
DTSTART;TZID=Europe/Madrid:20260325T180000
DTEND;TZID=Europe/Madrid:20260325T180000
DTSTAMP:20260424T064400
CREATED:20260210T102339Z
LAST-MODIFIED:20260210T104529Z
UID:8922-1774461600-1774461600@www.sefarad-israel.es
SUMMARY:Artistas judíos y vanguardia en las colecciones de los museos madrileños
DESCRIPTION:La segunda sesión del ciclo se adentra en la modernidad y las vanguardias\, centrándose en los creadores judíos asquenazíes cuya obra forma parte de las colecciones públicas madrileñas. La conferencia explora las múltiples maneras en que estos artistas dialogaron con su tradición judía al tiempo que se incorporaban a los lenguajes artísticos contemporáneos. \nDesde figuras universalmente reconocidas como Marc Chagall o Mark Rothko\, hasta autores menos conocidos\, Pablo Sánchez analizará cómo cada creador construyó una relación singular entre identidad\, modernidad y expresión artística. La sesión permitirá también comprender por qué las vanguardias tuvieron una presencia limitada en España\, tanto en el ámbito museístico como dentro de la propia comunidad judía. \nCentro Sefarad-Israel (C/ Mayor\, 69 – Madrid)\nEntrada libre hasta completar aforo
URL:https://www.sefarad-israel.es/evento/artistas-judios-y-vanguardia/
LOCATION:Centro Sefarad-Israel\, Calle Mayor\, 69\, Madrid\, Comunidad de Madrid\, 28013\, España
CATEGORIES:arte judío español,Conversaciones
ATTACH;FMTTYPE=image/png:https://www.sefarad-israel.es/wp-content/uploads/2026/02/10.png
END:VEVENT
BEGIN:VEVENT
DTSTART;TZID=Europe/Madrid:20260326T180000
DTEND;TZID=Europe/Madrid:20260326T180000
DTSTAMP:20260424T064400
CREATED:20260224T151035Z
LAST-MODIFIED:20260304T120501Z
UID:9050-1774548000-1774548000@www.sefarad-israel.es
SUMMARY:Un "aleluya" para Leonard Cohen
DESCRIPTION:El próximo 26 de marzo\, Centro Sefarad-Israel y la Embajada de Canadá rinden homenaje a Leonard Cohen con un encuentro dedicado a recorrer su obra\, poética y musical\, destacando la profundidad espiritual y la vigencia de su legado que vincula Canadá con España. \nParticiparán Chantal Ringuet\, ensayista\, autora y traductora canadiense especializada en memoria\, traducción y literatura yiddish\, consultora de la exposición Leonard Cohen. Une brèche en toute chose y escritora residente Mordecai Richler en 2024 en la Universidad McGill\, junto a José Manuel Errasti Pérez\, doctor en Psicología\, profesor de la Universidad de Oviedo y director desde 2022 de la Cátedra Institucional Leonard Cohen\, investigador en identidad\, cultura contemporánea y formación del yo en la ciudad moderna. Ambos ofrecerán una mirada complementaria -literaria y filosófica- que permitirá situar a Cohen en el cruce entre tradición judía\, modernidad y creación artística. Les acompañará un interludio musical con varias canciones interpretadas por: Héctor Tuya\, a quien Leonard Cohen marca su infancia\, su influencia ha marcado su trayectoria. Ha desarrollado su carrera musical\, desempeñando labores de guitarrista\, cantante\, compositor\, solista y productor. Su disco La Caja Negra ha recibido el Premio Tino Casal en la categoría Mejor disco del año 2017. En el presente ultima la salida de un próximo disco y un libro (EOLAS editorial)\, que verán la luz en 2026. \nLeonard Norman Cohen (Montreal\, 1934 – Los Ángeles\, 2016) fue cantautor\, poeta y novelista judío canadiense. Considerado “uno de los cantantes y compositores más fascinantes y enigmáticos de finales de los 60”\, desarrolló una escritura marcada por la tensión entre mística y cotidianidad\, fe y deseo\, memoria y presente. En 2011 recibió el Premio Príncipe de Asturias de las Letras. \nUn homenaje para redescubrir a Leonard Cohen como poeta de la memoria y puente entre tradición judía\, cultura canadiense y sensibilidad universal. \nEvento en español y francés. Disponible servicio de traducción simultánea.\nCentro Sefarad-Israel (C/ Mayor\, 69 – Madrid)\nEntrada libre\, con inscripción previa en el enlace de más abajo (hasta completar aforo).
URL:https://www.sefarad-israel.es/evento/un-aleluya-para-leonard-cohen/
CATEGORIES:Coloquio,Conferencia,Música
ATTACH;FMTTYPE=image/jpeg:https://www.sefarad-israel.es/wp-content/uploads/2026/02/leonard-cohen.jpeg
END:VEVENT
END:VCALENDAR