BEGIN:VCALENDAR
VERSION:2.0
PRODID:-//Centro Sefarad Israel - ECPv6.15.20//NONSGML v1.0//EN
CALSCALE:GREGORIAN
METHOD:PUBLISH
X-ORIGINAL-URL:https://www.sefarad-israel.es
X-WR-CALDESC:Eventos para Centro Sefarad Israel
REFRESH-INTERVAL;VALUE=DURATION:PT1H
X-Robots-Tag:noindex
X-PUBLISHED-TTL:PT1H
BEGIN:VTIMEZONE
TZID:Europe/Madrid
BEGIN:DAYLIGHT
TZOFFSETFROM:+0100
TZOFFSETTO:+0200
TZNAME:CEST
DTSTART:20250330T010000
END:DAYLIGHT
BEGIN:STANDARD
TZOFFSETFROM:+0200
TZOFFSETTO:+0100
TZNAME:CET
DTSTART:20251026T010000
END:STANDARD
BEGIN:DAYLIGHT
TZOFFSETFROM:+0100
TZOFFSETTO:+0200
TZNAME:CEST
DTSTART:20260329T010000
END:DAYLIGHT
BEGIN:STANDARD
TZOFFSETFROM:+0200
TZOFFSETTO:+0100
TZNAME:CET
DTSTART:20261025T010000
END:STANDARD
BEGIN:DAYLIGHT
TZOFFSETFROM:+0100
TZOFFSETTO:+0200
TZNAME:CEST
DTSTART:20270328T010000
END:DAYLIGHT
BEGIN:STANDARD
TZOFFSETFROM:+0200
TZOFFSETTO:+0100
TZNAME:CET
DTSTART:20271031T010000
END:STANDARD
END:VTIMEZONE
BEGIN:VEVENT
DTSTART;TZID=Europe/Madrid:20260129T190000
DTEND;TZID=Europe/Madrid:20260129T190000
DTSTAMP:20260422T102435
CREATED:20251223T104730Z
LAST-MODIFIED:20260116T083934Z
UID:8501-1769713200-1769713200@www.sefarad-israel.es
SUMMARY:Denise Papo: huida por los Pirineos\, camino hacia la libertad
DESCRIPTION:En el marco de los Actos por el Día Oficial de la Memoria del Holocausto y la Prevención de los Crímenes contra la Humanidad\, el Centro Sefarad-Israel organiza un encuentro abierto al público con la superviviente del Holocausto Denise Papo y con su hija Sonia Papo\, que tendrá lugar en la Caja de Música\, espacio cultural del Ayuntamiento de Madrid en el Palacio de Cibeles. \nEl acto consistirá en una entrevista-testimonio conducida por Cecilia Levit Kaler\, coordinadora del programa para educadores de Yad Vashem España\, y profesora del Colegio Ibn Gabirol Estrella Toledano\, quien guiará la conversación a través de la experiencia vital de Denise Papo y de su marido Víctor Papo\, marcada por la persecución nazi\, el exilio\, la clandestinidad y la reconstrucción de la vida tras la guerra. \nNacida en París en 1937 en el seno de una familia judía de origen polaco\, Denise Papo sobrevivió a la ocupación nazi escondida junto a su madre y su hermana gemela en la Francia ocupada\, mientras su padre lograba huir a España cruzando los Pirineos en 1942. Tras el final de la Segunda Guerra Mundial\, la familia se reunió en Barcelona\, donde inició una nueva vida. Su testimonio constituye una valiosa aportación a la memoria del Holocausto y a la reflexión sobre la importancia de su transmisión a las nuevas generaciones. \nVictor Papo y su familia sefardí\, vivía en París desde 1929. Tras la ocupación alemana en 1940\, el cabeza de familia Jaques Papo –quien obtuvo la nacionalidad española en Milán en 1925– solicita al diplomático Bernardo Rolland la protección del consulado español en París. Cuando comienzan las detenciones masivas de judíos\, el cónsul Rolland aconseja a la familia abandonar Francia y emigrar a España\, y les expide pasaportes españoles. Un mes más tarde cruzan la frontera a través de los Pirineos. \nEste encuentro se inscribe en el compromiso del Centro Sefarad-Israel con la memoria\, la educación en derechos humanos y la prevención del antisemitismo y de los crímenes de odio en nuestras sociedades. \nInscripción previa necesaria (en el enlace de abajo) | Plazas limitadas\n  \n  \n 
URL:https://www.sefarad-israel.es/evento/testimonio-de-la-superviviente-del-holocausto-denise-papo/
LOCATION:Auditorio Caja de Música (Centro Centro)\, Plaza de Cibeles\, 1\, Madrid\, Madrid\, 28014\, Spain
CATEGORIES:Coloquio
ATTACH;FMTTYPE=image/png:https://www.sefarad-israel.es/wp-content/uploads/2025/12/papo.png
END:VEVENT
END:VCALENDAR