BEGIN:VCALENDAR
VERSION:2.0
PRODID:-//Centro Sefarad Israel - ECPv6.15.20//NONSGML v1.0//EN
CALSCALE:GREGORIAN
METHOD:PUBLISH
X-WR-CALNAME:Centro Sefarad Israel
X-ORIGINAL-URL:https://www.sefarad-israel.es
X-WR-CALDESC:Eventos para Centro Sefarad Israel
REFRESH-INTERVAL;VALUE=DURATION:PT1H
X-Robots-Tag:noindex
X-PUBLISHED-TTL:PT1H
BEGIN:VTIMEZONE
TZID:Europe/Madrid
BEGIN:DAYLIGHT
TZOFFSETFROM:+0100
TZOFFSETTO:+0200
TZNAME:CEST
DTSTART:20240331T010000
END:DAYLIGHT
BEGIN:STANDARD
TZOFFSETFROM:+0200
TZOFFSETTO:+0100
TZNAME:CET
DTSTART:20241027T010000
END:STANDARD
BEGIN:DAYLIGHT
TZOFFSETFROM:+0100
TZOFFSETTO:+0200
TZNAME:CEST
DTSTART:20250330T010000
END:DAYLIGHT
BEGIN:STANDARD
TZOFFSETFROM:+0200
TZOFFSETTO:+0100
TZNAME:CET
DTSTART:20251026T010000
END:STANDARD
BEGIN:DAYLIGHT
TZOFFSETFROM:+0100
TZOFFSETTO:+0200
TZNAME:CEST
DTSTART:20260329T010000
END:DAYLIGHT
BEGIN:STANDARD
TZOFFSETFROM:+0200
TZOFFSETTO:+0100
TZNAME:CET
DTSTART:20261025T010000
END:STANDARD
END:VTIMEZONE
BEGIN:VEVENT
DTSTART;TZID=Europe/Madrid:20250326T180000
DTEND;TZID=Europe/Madrid:20250326T180000
DTSTAMP:20260425T191225
CREATED:20250210T112944Z
LAST-MODIFIED:20250324T200907Z
UID:5469-1743012000-1743012000@www.sefarad-israel.es
SUMMARY:Ciclo Kubrick: Proyección de “Lolita”.
DESCRIPTION:Dentro del “Ciclo Kubrick” proyectaremos Lolita\, una película de 1962 dirigida por Stanley Kubrick y basada en la controvertida novela homónima de Vladimir Nabokov. La historia sigue a Humbert Humbert (James Mason)\, un hombre de mediana edad y sofisticado que se obsesiona con Dolores Haze (Sue Lyon)\, una adolescente de 14 años a quien apoda «Lolita». Humbert se muda a la casa de la joven y su madre\, Charlotte (Shelley Winters)\, buscando acercarse a Lolita de manera cada vez más manipuladora y peligrosa. A lo largo del relato\, Kubrick explora los límites de la moralidad\, la obsesión y el deseo\, sin recurrir a la explicitud\, sino mediante el análisis psicológico y la compleja dinámica de poder entre los personajes. La película\, a pesar de las restricciones de la censura de la época\, se mantiene fiel al tono sombrío y perturbador de la obra original\, invitando al espectador a reflexionar sobre las complejidades de la atracción y el control. \nEntrada libre hasta completar aforo.
URL:https://www.sefarad-israel.es/evento/ciclo-kubrick-proyeccion-de-lolita/
LOCATION:Centro Sefarad-Israel\, Calle Mayor\, 69\, Madrid\, Comunidad de Madrid\, 28013\, España
CATEGORIES:Cine
ATTACH;FMTTYPE=image/jpeg:https://www.sefarad-israel.es/wp-content/uploads/2025/02/20250326-Lolita-web.jpg
END:VEVENT
END:VCALENDAR