BEGIN:VCALENDAR
VERSION:2.0
PRODID:-//Centro Sefarad Israel - ECPv6.15.20//NONSGML v1.0//EN
CALSCALE:GREGORIAN
METHOD:PUBLISH
X-WR-CALNAME:Centro Sefarad Israel
X-ORIGINAL-URL:https://www.sefarad-israel.es
X-WR-CALDESC:Eventos para Centro Sefarad Israel
REFRESH-INTERVAL;VALUE=DURATION:PT1H
X-Robots-Tag:noindex
X-PUBLISHED-TTL:PT1H
BEGIN:VTIMEZONE
TZID:Europe/Madrid
BEGIN:DAYLIGHT
TZOFFSETFROM:+0100
TZOFFSETTO:+0200
TZNAME:CEST
DTSTART:20240331T010000
END:DAYLIGHT
BEGIN:STANDARD
TZOFFSETFROM:+0200
TZOFFSETTO:+0100
TZNAME:CET
DTSTART:20241027T010000
END:STANDARD
BEGIN:DAYLIGHT
TZOFFSETFROM:+0100
TZOFFSETTO:+0200
TZNAME:CEST
DTSTART:20250330T010000
END:DAYLIGHT
BEGIN:STANDARD
TZOFFSETFROM:+0200
TZOFFSETTO:+0100
TZNAME:CET
DTSTART:20251026T010000
END:STANDARD
BEGIN:DAYLIGHT
TZOFFSETFROM:+0100
TZOFFSETTO:+0200
TZNAME:CEST
DTSTART:20260329T010000
END:DAYLIGHT
BEGIN:STANDARD
TZOFFSETFROM:+0200
TZOFFSETTO:+0100
TZNAME:CET
DTSTART:20261025T010000
END:STANDARD
END:VTIMEZONE
BEGIN:VEVENT
DTSTART;TZID=Europe/Madrid:20250110T180000
DTEND;TZID=Europe/Madrid:20250110T180000
DTSTAMP:20260425T215504
CREATED:20241113T090244Z
LAST-MODIFIED:20241113T090244Z
UID:4947-1736532000-1736532000@www.sefarad-israel.es
SUMMARY:Caminos de Sefarad. Diario de una ciclista. Episodio 4. En busca de la Extremadura judía.
DESCRIPTION:Ainara Hernando\, conocida periodista y escritora del mundo del ciclismo\, recorrerá las juderías de España en 13 apasionantes etapas a bordo de su bicicleta gravel. Esta ruta única atraviesa casi toda España\, revelando ciudades monumentales\, pintorescos pueblos\, impresionantes paisajes naturales\, una rica variedad de terrenos\, desde llanuras hasta puertos de montaña y destacando las costumbres\, la gastronomía y las historias de las comunidades que habitan estas tierras. “Caminos de Sefarad: Diario de una ciclista II”\, serie documental de la que Centro Sefarad-Israel es entidad colaboradora\, ofrece una experiencia auténtica y enriquecedora. Con un enfoque didáctico y turístico\, la serie no solo invita a personas de todas las edades a descubrir la belleza de estas regiones\, sino que también sirve como una valiosa guía para los amantes de la naturaleza y la bicicleta que deseen seguir los mismos pasos de Ainara. \nEn este capítulo da inicio a una nueva travesía en Garrovillas\, una localidad de Extremadura que nos transporta a la época medieval. Recorrerá parte de la Ruta Vía de la Plata antes de llegar hasta aquí. Desde Plasencia hasta Hervás\, explorando la herencia judía de la región. Y terminará su aventura en Béjar\, en su imponente Covatilla\, uno de los puertos más importantes de la Vuelta a España. \nEste documental podrá verse únicamente de forma online a través del canal de YouTube de Centro Sefarad-Israel\, en este enlace.
URL:https://www.sefarad-israel.es/evento/caminos-de-sefarad-diario-de-una-ciclista-episodio-4-en-busca-de-la-extremadura-judia/
LOCATION:Actividad online. Canal de YouTube de Centro Sefarad-Israel
CATEGORIES:Diarios de una ciclista
ATTACH;FMTTYPE=image/jpeg:https://www.sefarad-israel.es/wp-content/uploads/2024/11/20250110-Diarios-de-una-ciclista-4-Web.jpg
END:VEVENT
END:VCALENDAR