BEGIN:VCALENDAR
VERSION:2.0
PRODID:-//Centro Sefarad Israel - ECPv6.15.20//NONSGML v1.0//EN
CALSCALE:GREGORIAN
METHOD:PUBLISH
X-WR-CALNAME:Centro Sefarad Israel
X-ORIGINAL-URL:https://www.sefarad-israel.es
X-WR-CALDESC:Eventos para Centro Sefarad Israel
REFRESH-INTERVAL;VALUE=DURATION:PT1H
X-Robots-Tag:noindex
X-PUBLISHED-TTL:PT1H
BEGIN:VTIMEZONE
TZID:Europe/Madrid
BEGIN:DAYLIGHT
TZOFFSETFROM:+0100
TZOFFSETTO:+0200
TZNAME:CEST
DTSTART:20240331T010000
END:DAYLIGHT
BEGIN:STANDARD
TZOFFSETFROM:+0200
TZOFFSETTO:+0100
TZNAME:CET
DTSTART:20241027T010000
END:STANDARD
BEGIN:DAYLIGHT
TZOFFSETFROM:+0100
TZOFFSETTO:+0200
TZNAME:CEST
DTSTART:20250330T010000
END:DAYLIGHT
BEGIN:STANDARD
TZOFFSETFROM:+0200
TZOFFSETTO:+0100
TZNAME:CET
DTSTART:20251026T010000
END:STANDARD
BEGIN:DAYLIGHT
TZOFFSETFROM:+0100
TZOFFSETTO:+0200
TZNAME:CEST
DTSTART:20260329T010000
END:DAYLIGHT
BEGIN:STANDARD
TZOFFSETFROM:+0200
TZOFFSETTO:+0100
TZNAME:CET
DTSTART:20261025T010000
END:STANDARD
END:VTIMEZONE
BEGIN:VEVENT
DTSTART;TZID=Europe/Madrid:20250918T180000
DTEND;TZID=Europe/Madrid:20250918T193000
DTSTAMP:20260425T123715
CREATED:20250813T114415Z
LAST-MODIFIED:20250818T092745Z
UID:6978-1758218400-1758223800@www.sefarad-israel.es
SUMMARY:Salomón Serfati: Dimensión histórica de la Ley de Nacionalidad para Sefardíes
DESCRIPTION:Al cumplirse diez años de la aprobación de la Ley de Nacionalidad para sefardíes (12/2015)\, el Centro Sefarad‑Israel organiza esta videoconferencia a cargo de Salomón Serfaty Bittán\, abogado y presidente de la Asociación Internacional de Juristas Sefardíes. \nLa ley\, que permitió a miles de descendientes de judíos sefardíes adquirir la nacionalidad española\, ha tenido una profunda repercusión simbólica\, jurídica y social\, y constituye un hito en la reparación de una memoria histórica largamente olvidada. A lo largo de la charla\, Serfaty abordará tanto el contexto histórico que dio lugar a esta normativa como su desarrollo legal y su impacto real\, sin olvidar los desafíos a los que se enfrentaron las personas que iniciaron el proceso. Asimismo\, se reflexionará sobre el significado que esta ley ha tenido para las comunidades sefardíes en todo el mundo y para la sociedad española. \nEsta actividad forma parte de los actos relacionados con la exposición conmemorativa que acaba de clausurarse en el Centro Sefarad‑Israel\, dedicada a destacar el valor histórico y simbólico de la ley y a recordar a quienes iniciaron ese camino de reencuentro con la ciudadanía española. \n  \n 
URL:https://www.sefarad-israel.es/evento/encuentro-en-linea-dimension-historica-de-la-ley-de-nacionalidad-para-sefardies-con-salomon-serfati/
LOCATION:Actividad online. Canal de YouTube de Centro Sefarad-Israel
CATEGORIES:Coloquio,Online
ATTACH;FMTTYPE=image/png:https://www.sefarad-israel.es/wp-content/uploads/2025/06/expo-ley-nacionalidad.png
END:VEVENT
END:VCALENDAR