BEGIN:VCALENDAR
VERSION:2.0
PRODID:-//Centro Sefarad Israel - ECPv6.15.20//NONSGML v1.0//EN
CALSCALE:GREGORIAN
METHOD:PUBLISH
X-WR-CALNAME:Centro Sefarad Israel
X-ORIGINAL-URL:https://www.sefarad-israel.es
X-WR-CALDESC:Eventos para Centro Sefarad Israel
REFRESH-INTERVAL;VALUE=DURATION:PT1H
X-Robots-Tag:noindex
X-PUBLISHED-TTL:PT1H
BEGIN:VTIMEZONE
TZID:Europe/Madrid
BEGIN:DAYLIGHT
TZOFFSETFROM:+0100
TZOFFSETTO:+0200
TZNAME:CEST
DTSTART:20240331T010000
END:DAYLIGHT
BEGIN:STANDARD
TZOFFSETFROM:+0200
TZOFFSETTO:+0100
TZNAME:CET
DTSTART:20241027T010000
END:STANDARD
BEGIN:DAYLIGHT
TZOFFSETFROM:+0100
TZOFFSETTO:+0200
TZNAME:CEST
DTSTART:20250330T010000
END:DAYLIGHT
BEGIN:STANDARD
TZOFFSETFROM:+0200
TZOFFSETTO:+0100
TZNAME:CET
DTSTART:20251026T010000
END:STANDARD
BEGIN:DAYLIGHT
TZOFFSETFROM:+0100
TZOFFSETTO:+0200
TZNAME:CEST
DTSTART:20260329T010000
END:DAYLIGHT
BEGIN:STANDARD
TZOFFSETFROM:+0200
TZOFFSETTO:+0100
TZNAME:CET
DTSTART:20261025T010000
END:STANDARD
END:VTIMEZONE
BEGIN:VEVENT
DTSTART;TZID=Europe/Madrid:20251128T180000
DTEND;TZID=Europe/Madrid:20251128T190000
DTSTAMP:20260424T215400
CREATED:20250625T134004Z
LAST-MODIFIED:20251113T153230Z
UID:6345-1764352800-1764356400@www.sefarad-israel.es
SUMMARY:De Girona a Castelló D’empuries «Call\, Deporte y Tradición»
DESCRIPTION:CAMINOS DE SEFARAD. DIARIO DE UNA CICLISTA II. CAPÍTULO 14 \nEn esta etapa final de su recorrido por Cataluña\, Ainara Hernando se adentra en la provincia de Girona\, una tierra donde la historia sefardí se conserva con fuerza y belleza. El viaje comienza en Girona capital\, cuya judería —el Call— es una de las mejor conservadas de Europa. Pedaleando por antiguas vías verdes\, Ainara atraviesa parajes naturales de gran encanto y se detiene en lugares como Banyoles y la medieval Besalú\, donde visita la única Mikveh conservada en España\, testimonio vivo del ritual judío. \nLa ruta culmina en Castelló d’Empúries\, donde tradición\, historia y cultura judía se funden con el paisaje del Alt Empordà. Un capítulo que une patrimonio y deporte\, memoria y naturaleza\, y que invita a conocer una Cataluña judía desde la emoción del pedaleo\, entre puentes románicos\, piedra antigua y voces del pasado que aún susurran en cada calle. \n \nTODOS LOS CAPÍTULOS DISPONIBLES AQUÍ
URL:https://www.sefarad-israel.es/evento/de-girona-a-castello-dempuries-call-deporte-y-tradicion/
LOCATION:Actividad online. Canal de YouTube de Centro Sefarad-Israel
CATEGORIES:Diarios de una ciclista
ATTACH;FMTTYPE=image/jpeg:https://www.sefarad-israel.es/wp-content/uploads/2025/06/Capitulo-10-Jaen-Diarios.jpeg
END:VEVENT
END:VCALENDAR