BEGIN:VCALENDAR
VERSION:2.0
PRODID:-//Centro Sefarad Israel - ECPv6.15.20//NONSGML v1.0//EN
CALSCALE:GREGORIAN
METHOD:PUBLISH
X-WR-CALNAME:Centro Sefarad Israel
X-ORIGINAL-URL:https://www.sefarad-israel.es
X-WR-CALDESC:Eventos para Centro Sefarad Israel
REFRESH-INTERVAL;VALUE=DURATION:PT1H
X-Robots-Tag:noindex
X-PUBLISHED-TTL:PT1H
BEGIN:VTIMEZONE
TZID:Europe/Madrid
BEGIN:DAYLIGHT
TZOFFSETFROM:+0100
TZOFFSETTO:+0200
TZNAME:CEST
DTSTART:20240331T010000
END:DAYLIGHT
BEGIN:STANDARD
TZOFFSETFROM:+0200
TZOFFSETTO:+0100
TZNAME:CET
DTSTART:20241027T010000
END:STANDARD
BEGIN:DAYLIGHT
TZOFFSETFROM:+0100
TZOFFSETTO:+0200
TZNAME:CEST
DTSTART:20250330T010000
END:DAYLIGHT
BEGIN:STANDARD
TZOFFSETFROM:+0200
TZOFFSETTO:+0100
TZNAME:CET
DTSTART:20251026T010000
END:STANDARD
BEGIN:DAYLIGHT
TZOFFSETFROM:+0100
TZOFFSETTO:+0200
TZNAME:CEST
DTSTART:20260329T010000
END:DAYLIGHT
BEGIN:STANDARD
TZOFFSETFROM:+0200
TZOFFSETTO:+0100
TZNAME:CET
DTSTART:20261025T010000
END:STANDARD
END:VTIMEZONE
BEGIN:VEVENT
DTSTART;TZID=Europe/Madrid:20251211T180000
DTEND;TZID=Europe/Madrid:20251211T180000
DTSTAMP:20260424T174831
CREATED:20251118T115549Z
LAST-MODIFIED:20251211T172514Z
UID:8223-1765476000-1765476000@www.sefarad-israel.es
SUMMARY:Abraham Ibn Ezra y su tiempo
DESCRIPTION:Abraham Ibn Ezra (Tudela\, 1089–1164) fue una de las figuras más influyentes de la tradición judía medieval: exegeta bíblico\, poeta\, gramático y filósofo. Tras abandonar su ciudad natal tras la llegada de los almorávides\, emprendió desde 1140 una larga vida de viajes que lo llevaron por el norte de África\, diversas ciudades italianas\, Provenza\, el norte de Francia e Inglaterra. Su figura\, envuelta en la imagen popular del sabio errante y empobrecido\, se convirtió en contrapunto de la imagen de Maimónides. \nConsiderado\, junto con Rashi\, uno de los comentaristas bíblicos más decisivos\, Ibn Ezra buscó siempre el sentido literal del texto\, apoyándose en la gramática\, la etimología y sus amplios conocimientos de astronomía y ciencias naturales. Su obra poética —tanto litúrgica como secular\, esta última influida por la tradición árabe— y sus comentarios bíblicos ejercieron gran influjo en los humanistas españoles del Siglo de Oro\, especialmente en fray Luis de León. Su estudio resulta esencial para comprender la herencia intelectual del judaísmo hispánico medieval. \nLa conferencia será impartida por la Dra. Jadwiga Clea Moreno-Szypowska\, profesora adjunta del Departamento de Literatura Europea del Instituto de Investigación Literaria de la Academia Polaca de Ciencias\, especialista en cultura judía en la España medieval\, la recepción del pensamiento judío en el Siglo de Oro y el pensamiento sefardí contemporáneo.
URL:https://www.sefarad-israel.es/evento/abraham-ibn-ezra-y-su-tiempo/
LOCATION:Actividad online. Canal de YouTube de Centro Sefarad-Israel
CATEGORIES:Conferencia,Online
ATTACH;FMTTYPE=image/png:https://www.sefarad-israel.es/wp-content/uploads/2025/11/Pagina-de-un-tratado-sobre-astrologia-de-Abraham-Ibn-Ezra.png
END:VEVENT
END:VCALENDAR