BEGIN:VCALENDAR
VERSION:2.0
PRODID:-//Centro Sefarad Israel - ECPv6.15.20//NONSGML v1.0//EN
CALSCALE:GREGORIAN
METHOD:PUBLISH
X-WR-CALNAME:Centro Sefarad Israel
X-ORIGINAL-URL:https://www.sefarad-israel.es
X-WR-CALDESC:Eventos para Centro Sefarad Israel
REFRESH-INTERVAL;VALUE=DURATION:PT1H
X-Robots-Tag:noindex
X-PUBLISHED-TTL:PT1H
BEGIN:VTIMEZONE
TZID:Europe/Madrid
BEGIN:DAYLIGHT
TZOFFSETFROM:+0100
TZOFFSETTO:+0200
TZNAME:CEST
DTSTART:20250330T010000
END:DAYLIGHT
BEGIN:STANDARD
TZOFFSETFROM:+0200
TZOFFSETTO:+0100
TZNAME:CET
DTSTART:20251026T010000
END:STANDARD
BEGIN:DAYLIGHT
TZOFFSETFROM:+0100
TZOFFSETTO:+0200
TZNAME:CEST
DTSTART:20260329T010000
END:DAYLIGHT
BEGIN:STANDARD
TZOFFSETFROM:+0200
TZOFFSETTO:+0100
TZNAME:CET
DTSTART:20261025T010000
END:STANDARD
BEGIN:DAYLIGHT
TZOFFSETFROM:+0100
TZOFFSETTO:+0200
TZNAME:CEST
DTSTART:20270328T010000
END:DAYLIGHT
BEGIN:STANDARD
TZOFFSETFROM:+0200
TZOFFSETTO:+0100
TZNAME:CET
DTSTART:20271031T010000
END:STANDARD
END:VTIMEZONE
BEGIN:VEVENT
DTSTART;VALUE=DATE:20260925
DTEND;VALUE=DATE:20261003
DTSTAMP:20260424T095941
CREATED:20250820T123310Z
LAST-MODIFIED:20260408T110919Z
UID:7111-1790294400-1790985599@www.sefarad-israel.es
SUMMARY:Sucot
DESCRIPTION:Festividades judías\nSucot es una festividad judía\, llamada también Fiesta de las Cabañas o Fiesta de los Tabernáculos\, que se celebra a lo largo de siete días en Israel y ocho días en la diáspora judía. \nEs una festividad de origen bíblico que rememora las vicisitudes del pueblo israelita durante su deambular por el desierto\, y la precariedad de sus condiciones materiales simbolizada por el precepto de morar en una cabaña provisoria o sucá\, tras el abandono de la esclavitud en Egipto: «A los quince días de este mes séptimo será la fiesta solemne de los tabernáculos a Elohim por siete días» (Levítico). \nMÁS INFORMACIÓN
URL:https://www.sefarad-israel.es/evento/sucot/
LOCATION:Comunidad de Madrid
CATEGORIES:Celebración
END:VEVENT
END:VCALENDAR