BEGIN:VCALENDAR
VERSION:2.0
PRODID:-//Centro Sefarad Israel - ECPv6.15.20//NONSGML v1.0//EN
CALSCALE:GREGORIAN
METHOD:PUBLISH
X-ORIGINAL-URL:https://www.sefarad-israel.es
X-WR-CALDESC:Eventos para Centro Sefarad Israel
REFRESH-INTERVAL;VALUE=DURATION:PT1H
X-Robots-Tag:noindex
X-PUBLISHED-TTL:PT1H
BEGIN:VTIMEZONE
TZID:Europe/Madrid
BEGIN:DAYLIGHT
TZOFFSETFROM:+0100
TZOFFSETTO:+0200
TZNAME:CEST
DTSTART:20250330T010000
END:DAYLIGHT
BEGIN:STANDARD
TZOFFSETFROM:+0200
TZOFFSETTO:+0100
TZNAME:CET
DTSTART:20251026T010000
END:STANDARD
BEGIN:DAYLIGHT
TZOFFSETFROM:+0100
TZOFFSETTO:+0200
TZNAME:CEST
DTSTART:20260329T010000
END:DAYLIGHT
BEGIN:STANDARD
TZOFFSETFROM:+0200
TZOFFSETTO:+0100
TZNAME:CET
DTSTART:20261025T010000
END:STANDARD
BEGIN:DAYLIGHT
TZOFFSETFROM:+0100
TZOFFSETTO:+0200
TZNAME:CEST
DTSTART:20270328T010000
END:DAYLIGHT
BEGIN:STANDARD
TZOFFSETFROM:+0200
TZOFFSETTO:+0100
TZNAME:CET
DTSTART:20271031T010000
END:STANDARD
END:VTIMEZONE
BEGIN:VEVENT
DTSTART;TZID=Europe/Madrid:20260420T180000
DTEND;TZID=Europe/Madrid:20260420T180000
DTSTAMP:20260422T180916
CREATED:20260319T102230Z
LAST-MODIFIED:20260410T082650Z
UID:9278-1776708000-1776708000@www.sefarad-israel.es
SUMMARY:Conceptos clave del judaísmo
DESCRIPTION:Presentación del libro\nUn encuentro en torno a Conceptos clave del judaísmo\, obra colectiva coordinada por Alfredo Hidalgo Lavié\, profesor de la Facultad de Derecho de la UNED\, que propone una aproximación rigurosa y divulgativa a los fundamentos del pensamiento y la tradición judía. \nEl libro ofrece una lectura accesible de nociones esenciales como la Torá\, la Halajá\, el Shabat\, la Tzedaká\, el Talmud o festividades como Pésaj y Rosh Hashaná\, junto a conceptos vinculados a la identidad\, la memoria o la diáspora (Galut). A través de estos términos\, la obra permite comprender la riqueza y complejidad del judaísmo\, así como su papel central en la configuración de la cultura occidental. \nCoordinado desde una pluralidad de voces y con la participación de la Federación de las Comunidades Judías de España (FCJE)\, el volumen reúne miradas diversas que permiten abordar el judaísmo desde una perspectiva contemporánea y abierta. \nEn el acto\, el coordinador de la obra estará acompañado por José Thovar\, director del Centro Sefarad-Israel; David Obadía\, presidente de la FCJE; y Sonia Calaza\, decana de la Facultad de Derecho de la UNED. El encuentro ofrecerá la oportunidad de profundizar en las claves del libro y propiciar el diálogo con el público. \nUna oportunidad para acercarse al judaísmo desde el conocimiento\, la reflexión y el intercambio de ideas.
URL:https://www.sefarad-israel.es/evento/conceptos-clave-del-judaismo/
LOCATION:Centro Sefarad-Israel\, Calle Mayor\, 69\, Madrid\, Comunidad de Madrid\, 28013\, España
CATEGORIES:Libro,Presentación
ATTACH;FMTTYPE=image/png:https://www.sefarad-israel.es/wp-content/uploads/2026/03/alfredo_header.png
END:VEVENT
END:VCALENDAR