BEGIN:VCALENDAR
VERSION:2.0
PRODID:-//Centro Sefarad Israel - ECPv6.15.20//NONSGML v1.0//EN
CALSCALE:GREGORIAN
METHOD:PUBLISH
X-WR-CALNAME:Centro Sefarad Israel
X-ORIGINAL-URL:https://www.sefarad-israel.es
X-WR-CALDESC:Eventos para Centro Sefarad Israel
REFRESH-INTERVAL;VALUE=DURATION:PT1H
X-Robots-Tag:noindex
X-PUBLISHED-TTL:PT1H
BEGIN:VTIMEZONE
TZID:Europe/Madrid
BEGIN:DAYLIGHT
TZOFFSETFROM:+0100
TZOFFSETTO:+0200
TZNAME:CEST
DTSTART:20250330T010000
END:DAYLIGHT
BEGIN:STANDARD
TZOFFSETFROM:+0200
TZOFFSETTO:+0100
TZNAME:CET
DTSTART:20251026T010000
END:STANDARD
BEGIN:DAYLIGHT
TZOFFSETFROM:+0100
TZOFFSETTO:+0200
TZNAME:CEST
DTSTART:20260329T010000
END:DAYLIGHT
BEGIN:STANDARD
TZOFFSETFROM:+0200
TZOFFSETTO:+0100
TZNAME:CET
DTSTART:20261025T010000
END:STANDARD
BEGIN:DAYLIGHT
TZOFFSETFROM:+0100
TZOFFSETTO:+0200
TZNAME:CEST
DTSTART:20270328T010000
END:DAYLIGHT
BEGIN:STANDARD
TZOFFSETFROM:+0200
TZOFFSETTO:+0100
TZNAME:CET
DTSTART:20271031T010000
END:STANDARD
END:VTIMEZONE
BEGIN:VEVENT
DTSTART;TZID=Europe/Madrid:20260127T193000
DTEND;TZID=Europe/Madrid:20260127T193000
DTSTAMP:20260424T190121
CREATED:20260108T093233Z
LAST-MODIFIED:20260108T095055Z
UID:8524-1769542200-1769542200@www.sefarad-israel.es
SUMMARY:Proyección comentada: El cónsul Perlasca
DESCRIPTION:Con motivo del Día de la Memoria del Holocausto\, el 27 de enero tendrá lugar una sesión abierta al público dedicada a la figura de Giorgio Perlasca\, a partir de una selección de extractos de la película El cónsul Perlasca (Perlasca – Un eroe italiano)\, dirigida por Alberto Negrin e interpretada por Luca Zingaretti. \nLa proyección contará con una presentación y comentario guiado a cargo del rabino Pierpaolo Pinhas Punturello\, que contextualizará los momentos clave del filme\, y con el testimonio de la superviviente del Holocausto Eva Leitman-Bohrer Benatar\, nacida en el Budapest de 1944 y refugiada posteriormente en España junto a su familia. \nLa sesión pondrá el foco en la colaboración de Perlasca con el embajador español Ángel Sanz Briz en el salvamento de miles de judíos perseguidos en Hungría\, una historia que vincula a Italia\, España y Hungría y que constituye un ejemplo excepcional de coraje civil y responsabilidad moral en uno de los episodios más oscuros de la historia europea. El acto contará con la presencia del Embajador de Italia en España\, S. E. Giuseppe Buccino Grimaldi. \nV.O.S.E.\nReserva obligatoria: confirmaciones en el enlace de abajo
URL:https://www.sefarad-israel.es/evento/proyeccion-comentada-el-consul-perlasca/
LOCATION:Istituto Italiano di Cultura de Madrid\, Calle Mayor\, 86\, Madrid
CATEGORIES:Cine
ATTACH;FMTTYPE=image/png:https://www.sefarad-israel.es/wp-content/uploads/2026/01/Cabecera-10241024-1.png
ORGANIZER;CN="Istituto Italiano di Cultura de Madrid":MAILTO:confirmaciones.iicmadrid@gmail.com
END:VEVENT
END:VCALENDAR