BEGIN:VCALENDAR
VERSION:2.0
PRODID:-//Centro Sefarad Israel - ECPv6.15.20//NONSGML v1.0//EN
CALSCALE:GREGORIAN
METHOD:PUBLISH
X-WR-CALNAME:Centro Sefarad Israel
X-ORIGINAL-URL:https://www.sefarad-israel.es
X-WR-CALDESC:Eventos para Centro Sefarad Israel
REFRESH-INTERVAL;VALUE=DURATION:PT1H
X-Robots-Tag:noindex
X-PUBLISHED-TTL:PT1H
BEGIN:VTIMEZONE
TZID:Europe/Madrid
BEGIN:DAYLIGHT
TZOFFSETFROM:+0100
TZOFFSETTO:+0200
TZNAME:CEST
DTSTART:20230326T010000
END:DAYLIGHT
BEGIN:STANDARD
TZOFFSETFROM:+0200
TZOFFSETTO:+0100
TZNAME:CET
DTSTART:20231029T010000
END:STANDARD
BEGIN:DAYLIGHT
TZOFFSETFROM:+0100
TZOFFSETTO:+0200
TZNAME:CEST
DTSTART:20240331T010000
END:DAYLIGHT
BEGIN:STANDARD
TZOFFSETFROM:+0200
TZOFFSETTO:+0100
TZNAME:CET
DTSTART:20241027T010000
END:STANDARD
BEGIN:DAYLIGHT
TZOFFSETFROM:+0100
TZOFFSETTO:+0200
TZNAME:CEST
DTSTART:20250330T010000
END:DAYLIGHT
BEGIN:STANDARD
TZOFFSETFROM:+0200
TZOFFSETTO:+0100
TZNAME:CET
DTSTART:20251026T010000
END:STANDARD
END:VTIMEZONE
BEGIN:VEVENT
DTSTART;TZID=Europe/Madrid:20240226T180000
DTEND;TZID=Europe/Madrid:20240226T193000
DTSTAMP:20260426T020648
CREATED:20240116T112753Z
LAST-MODIFIED:20240325T142117Z
UID:3142-1708970400-1708975800@www.sefarad-israel.es
SUMMARY:Presentación de "Breve historia de los judíos de España" de Paloma Díaz-Mas
DESCRIPTION:Este libro ofrece una visión global de la presencia de los judíos en España desde sus orígenes hasta la democracia actual. Paloma Díaz-Mas ha elaborado una breve pero completa síntesis\, al alcance de cualquier lector interesado\, que arranca con los primeros testimonios en la península ibérica y que continúa analizando múltiples aspectos de la historia y la cultura sefardíes. Tras el acoso visigodo\, los judíos en la Edad Media —tanto en al-Ándalus como en los reinos cristianos— vivieron largas épocas de estabilidad\, aunque no exentas de conflictos que\, tras la toma de Granada\, desembocaron en su expulsión en 1492. \nAdemás de las causas y consecuencias de esta deportación\, la obra ofrece también las rutas que siguieron los expulsos en el exilio o la persecución de la Inquisición a los conversos judaizantes: los llamados cristianos nuevos eran objeto de una red de espionaje que en pleno Siglo de Oro creó un clima de inseguridad\, miedo y delación. Tras un largo tiempo de una España sin judíos\, el debate de su retorno se reabrió en el siglo XIX\, y años más tarde volvieron a establecerse comunidades en nuestro país. En cuanto a la historia reciente\, la obra da a conocer los efectos del decreto de Primo de Rivera\, la postura de la II República\, la verdadera actitud de Franco con los perseguidos por el nazismo hasta llegar a la libertad religiosa promulgada por la Constitución y la situación actual de los judíos españoles. \n  \nPaloma Díaz-Mas\, académica de la Real Academia Española\, nos presentará su obra y responderá a las preguntas del público. Participará también el historiador y politólogo José Antonio Lisbona. \n  \nLa entrada a la actividad es libre\, previa confirmación en el enlace que encontrarán más abajo. \n  \n 
URL:https://www.sefarad-israel.es/evento/presentacion-de-historia-breve-de-los-judios-de-espana-de-paloma-diaz-mas/
LOCATION:Centro Sefarad-Israel\, Calle Mayor\, 69\, Madrid\, Comunidad de Madrid\, 28013\, España
CATEGORIES:Libro
ATTACH;FMTTYPE=image/jpeg:https://www.sefarad-israel.es/wp-content/uploads/2024/01/slide-5635-1050x335-1.jpeg
END:VEVENT
END:VCALENDAR