BEGIN:VCALENDAR
VERSION:2.0
PRODID:-//Centro Sefarad Israel - ECPv6.15.20//NONSGML v1.0//EN
CALSCALE:GREGORIAN
METHOD:PUBLISH
X-ORIGINAL-URL:https://www.sefarad-israel.es
X-WR-CALDESC:Eventos para Centro Sefarad Israel
REFRESH-INTERVAL;VALUE=DURATION:PT1H
X-Robots-Tag:noindex
X-PUBLISHED-TTL:PT1H
BEGIN:VTIMEZONE
TZID:Europe/Madrid
BEGIN:DAYLIGHT
TZOFFSETFROM:+0100
TZOFFSETTO:+0200
TZNAME:CEST
DTSTART:20230326T010000
END:DAYLIGHT
BEGIN:STANDARD
TZOFFSETFROM:+0200
TZOFFSETTO:+0100
TZNAME:CET
DTSTART:20231029T010000
END:STANDARD
BEGIN:DAYLIGHT
TZOFFSETFROM:+0100
TZOFFSETTO:+0200
TZNAME:CEST
DTSTART:20240331T010000
END:DAYLIGHT
BEGIN:STANDARD
TZOFFSETFROM:+0200
TZOFFSETTO:+0100
TZNAME:CET
DTSTART:20241027T010000
END:STANDARD
BEGIN:DAYLIGHT
TZOFFSETFROM:+0100
TZOFFSETTO:+0200
TZNAME:CEST
DTSTART:20250330T010000
END:DAYLIGHT
BEGIN:STANDARD
TZOFFSETFROM:+0200
TZOFFSETTO:+0100
TZNAME:CET
DTSTART:20251026T010000
END:STANDARD
END:VTIMEZONE
BEGIN:VEVENT
DTSTART;TZID=Europe/Madrid:20241121T173000
DTEND;TZID=Europe/Madrid:20241121T193000
DTSTAMP:20260426T020942
CREATED:20241015T141137Z
LAST-MODIFIED:20241127T111704Z
UID:4748-1732210200-1732217400@www.sefarad-israel.es
SUMMARY:Enseñando sobre el antisemitismo: Consideraciones pedagógicas
DESCRIPTION:Yechiel Chilewski\, formador de la Escuela Internacional para el Estudio del Holocausto Yad Vashem\, impartirá este taller abierto a educadores. \nEn este taller pedagógico\, el formador de la Escuela Internacional para el estudio del Holocausto Yad Vashem (Centro Mundial de Conmemoración de la Shoá) invitará a explorar las raíces históricas del antisemitismo y a debatir sus manifestaciones contemporáneas\, abordando consideraciones pedagógicas para identificarlo y fomentar en los estudiantes una comprensión crítica y activa frente a la discriminación. \nEnseñar el Holocausto constituye un instrumento pedagógico único para suscitar entre el alumnado el pensamiento crítico así como  para educar contra la discriminación y el discurso de odio. \nPerfil del participante: la actividad va dirigida a educadores de centros escolares (educación secundaria principalmente)\, universidades y otras instituciones dedicadas a la enseñanza y la educación. \nYechiel Chilevski. Formador de la Escuela Internacional para el Estudio del Holocausto Yad Vashem (Jerusalén):\nCoordinador Educativo para países de Habla Hispana y Portuguesa en el Departamento de Educación y Capacitación en el Exterior de la Escuela Internacional para el Estudio del Holocausto de Yad Vashem. Nacido en Uruguay\, emigró a Israel en 1996. Cursó estudios académicos junto con estudios judaicos tradicionales\, graduándose en Historia del Pueblo de Israel y Pensamiento Judío en la Universidad Hebrea de Jerusalén. Obtuvo un Máster en Educación de la Universidad Bar-Ilan; un Certificado de Enseñanza de la Torá Oral del Instituto Lifshitz y la Ordenación Rabínica del Shehebar Sephardic Center. Desempeñó diversos cargos rabínicos y educativos en Israel y en el exterior como representante de la Agencia Judía\, en Costa Rica\, Colombia y Uruguay. Actualmente enseña en el Instituto de Estudios Judaicos «Majón Miriam» y es Coordinador Educativo para países de Habla Hispana y Portuguesa en el Departamento de Educación y Capacitación en el Exterior de la Escuela Internacional para el Estudio del Holocausto de Yad Vashem. \nRosa Méndez. Responsable de Educación\, Holocausto y Antisemitismo de Centro Sefarad-Israel:\nNacida en Madrid. Responsable de Educación\, Holocausto y Antisemitismo de Centro Sefarad-Israel. Se licenció en Filología Hebrea por la UCM. Fue estudiante visitante de licenciatura e investigación en la Universidad de Cambridge\, la Universidad Hebrea de Jerusalén y la Universidad de Tel Aviv. Presentó su tesina ‘Aharon Appelfeld y el descubrimiento del judaísmo’ en la UCM. Durante su última etapa\, ha organizado e implementado numerosos cursos y seminarios sobre la enseñanza del Holocausto y actos institucionales de conmemoración del día del Holocausto. Además\, es la responsable de la Red de Profesorado Español para la enseñanza del Holocausto formados en Yad Vashem. Forma parte del Grupo de Trabajo sobre Educación del Plan Nacional para la lucha contra el antisemitismo y el fomento de la vida judía. Es miembro de la delegación española de la organización intergubernamental IHRA (International Holocaust Remembrance Alliance). \nEntrada libre\, previa confirmación en el enlace que encontrarán más abajo.
URL:https://www.sefarad-israel.es/evento/introduccion-a-la-ensenanza-del-holocausto-y-su-conmemoracion-en-el-aula/
LOCATION:Centro Sefarad-Israel\, Calle Mayor\, 69\, Madrid\, Comunidad de Madrid\, 28013\, España
ATTACH;FMTTYPE=image/jpeg:https://www.sefarad-israel.es/wp-content/uploads/2024/10/Foto-Yad-Vashem-Taller-Yechiel-scaled.jpg
END:VEVENT
END:VCALENDAR