BEGIN:VCALENDAR
VERSION:2.0
PRODID:-//Centro Sefarad Israel - ECPv6.15.20//NONSGML v1.0//EN
CALSCALE:GREGORIAN
METHOD:PUBLISH
X-WR-CALNAME:Centro Sefarad Israel
X-ORIGINAL-URL:https://www.sefarad-israel.es
X-WR-CALDESC:Eventos para Centro Sefarad Israel
REFRESH-INTERVAL;VALUE=DURATION:PT1H
X-Robots-Tag:noindex
X-PUBLISHED-TTL:PT1H
BEGIN:VTIMEZONE
TZID:Europe/Madrid
BEGIN:DAYLIGHT
TZOFFSETFROM:+0100
TZOFFSETTO:+0200
TZNAME:CEST
DTSTART:20240331T010000
END:DAYLIGHT
BEGIN:STANDARD
TZOFFSETFROM:+0200
TZOFFSETTO:+0100
TZNAME:CET
DTSTART:20241027T010000
END:STANDARD
BEGIN:DAYLIGHT
TZOFFSETFROM:+0100
TZOFFSETTO:+0200
TZNAME:CEST
DTSTART:20250330T010000
END:DAYLIGHT
BEGIN:STANDARD
TZOFFSETFROM:+0200
TZOFFSETTO:+0100
TZNAME:CET
DTSTART:20251026T010000
END:STANDARD
BEGIN:DAYLIGHT
TZOFFSETFROM:+0100
TZOFFSETTO:+0200
TZNAME:CEST
DTSTART:20260329T010000
END:DAYLIGHT
BEGIN:STANDARD
TZOFFSETFROM:+0200
TZOFFSETTO:+0100
TZNAME:CET
DTSTART:20261025T010000
END:STANDARD
END:VTIMEZONE
BEGIN:VEVENT
DTSTART;TZID=Europe/Madrid:20251015T190000
DTEND;TZID=Europe/Madrid:20251015T190000
DTSTAMP:20260424T153106
CREATED:20250911T103158Z
LAST-MODIFIED:20250929T090203Z
UID:7393-1760554800-1760554800@www.sefarad-israel.es
SUMMARY:Un mesías sefardí en la mancomunidad polaco-lituana
DESCRIPTION:Los libros de Jacob\, de la Premio Nobel Olga Tokarczuk\, narra la historia de Jacob Frank\, un joven judío del siglo XVIII que recorrió los imperios Habsburgo y Otomano. Se autoproclamó Mesías\, reunió discípulos\, desafió a las autoridades y fundó una secta que rompía tabúes\, practicaba rituales transgresores y buscaba nuevas formas de espiritualidad en pleno Siglo de las Luces. \nCon este personaje real —carismático\, subversivo e iconoclasta— la novela evoca la estela de Sabbatei Zevi\, el falso mesías del siglo XVII\, cuyos seguidores se extendieron por Polonia y Turquía y aún mantienen su identidad como grupo secreto. \nLa conferencia será impartida por la doctora Jadwiga Clea Moreno-Szypowska\, investigadora del Instituto de Investigación Literaria de la Academia Polaca de Ciencias y colaboradora habitual del Centro Sefarad-Israel. Sus trabajos se centran en la cultura judía en la España medieval\, la huella del pensamiento judío en la literatura del Siglo de Oro y el pensamiento de los sefardíes contemporáneos. \nOlga Tokarczuk (Sulechów\, 1962)\, psicóloga\, poeta y ensayista\, es una de las autoras polacas más reconocidas. Ganó el Premio Nike de literatura polaca y en 2019 recibió el Premio Nobel de Literatura. \nActividad en el canal de YouTube de Centro Sefarad-Israel\n  \n 
URL:https://www.sefarad-israel.es/evento/un-mesias-sefardi-en-la-mancomunidad-polaco-lituana/
LOCATION:Actividad online. Canal de YouTube de Centro Sefarad-Israel
CATEGORIES:Online,Presentación
ATTACH;FMTTYPE=image/jpeg:https://www.sefarad-israel.es/wp-content/uploads/2025/09/file-20220223-13-1700s0d-1.jpeg
END:VEVENT
BEGIN:VEVENT
DTSTART;TZID=Europe/Madrid:20251015T180000
DTEND;TZID=Europe/Madrid:20251015T180000
DTSTAMP:20260424T153106
CREATED:20250926T084246Z
LAST-MODIFIED:20250930T084009Z
UID:7698-1760551200-1760551200@www.sefarad-israel.es
SUMMARY:En diálogo. La presencia judía en las Brigadas Internacionales
DESCRIPTION:En octubre de 1936\, apenas tres meses después del inicio de la Guerra Civil española\, el Gobierno de la República autorizó oficialmente la creación de las Brigadas Internacionales\, unidades militares que reunieron a miles de voluntarios procedentes de más de 50 países\, unidos por un mismo propósito: combatir el avance del fascismo en Europa. Entre ellos destacó la participación de numerosos judíos de distintos lugares del mundo\, cuya implicación respondió tanto a motivaciones ideológicas como a un profundo sentimiento de identidad y solidaridad frente a la amenaza del nazismo y el antisemitismo. \nCon motivo del aniversario de su constitución\, Centro Sefarad-Israel organiza una mesa redonda que abordará la presencia judía en las Brigadas Internacionales\, un capítulo poco explorado de la historia contemporánea. \nEl diálogo contará con dos voces expertas: Nikola Miloševski\, director ejecutivo del Museo de las Víctimas del Genocidio en Belgrado\, y Almudena Cruz Yábar\, Subdirectora General de Difusión de la Memoria dentro de la Secretaría de Estado de Memoria Democrática. Sus intervenciones ofrecerán un enfoque complementario\, uniendo la perspectiva institucional española y la investigación académica internacional para reflexionar sobre la memoria de estos combatientes. \nA lo largo de la conversación se analizarán las razones que llevaron a judíos de países tan diversos como Francia\, Polonia\, Estados Unidos o Yugoslavia a alistarse en las Brigadas\, así como el significado político y simbólico de su compromiso antifascista. También se pondrán en relación estas experiencias con los procesos de persecución que\, pocos años después\, marcarían la historia europea del siglo XX\, desde la Shoá hasta la represión política en los países de origen de muchos brigadistas. \nEl objetivo de esta mesa es abrir un espacio de reflexión compartida sobre identidad\, solidaridad y memoria histórica\, situando a los voluntarios judíos en el marco del legado internacional de las Brigadas y su proyección en la cultura democrática actual.
URL:https://www.sefarad-israel.es/evento/en-dialogo-la-presencia-judia-en-las-brigadas-internacionales/
LOCATION:Centro Sefarad-Israel\, Calle Mayor\, 69\, Madrid\, Comunidad de Madrid\, 28013\, España
CATEGORIES:Conferencia
ATTACH;FMTTYPE=image/jpeg:https://www.sefarad-israel.es/wp-content/uploads/2025/09/9.jpg
END:VEVENT
END:VCALENDAR