BEGIN:VCALENDAR
VERSION:2.0
PRODID:-//Centro Sefarad Israel - ECPv6.15.20//NONSGML v1.0//EN
CALSCALE:GREGORIAN
METHOD:PUBLISH
X-ORIGINAL-URL:https://www.sefarad-israel.es
X-WR-CALDESC:Eventos para Centro Sefarad Israel
REFRESH-INTERVAL;VALUE=DURATION:PT1H
X-Robots-Tag:noindex
X-PUBLISHED-TTL:PT1H
BEGIN:VTIMEZONE
TZID:Europe/Madrid
BEGIN:DAYLIGHT
TZOFFSETFROM:+0100
TZOFFSETTO:+0200
TZNAME:CEST
DTSTART:20250330T010000
END:DAYLIGHT
BEGIN:STANDARD
TZOFFSETFROM:+0200
TZOFFSETTO:+0100
TZNAME:CET
DTSTART:20251026T010000
END:STANDARD
BEGIN:DAYLIGHT
TZOFFSETFROM:+0100
TZOFFSETTO:+0200
TZNAME:CEST
DTSTART:20260329T010000
END:DAYLIGHT
BEGIN:STANDARD
TZOFFSETFROM:+0200
TZOFFSETTO:+0100
TZNAME:CET
DTSTART:20261025T010000
END:STANDARD
BEGIN:DAYLIGHT
TZOFFSETFROM:+0100
TZOFFSETTO:+0200
TZNAME:CEST
DTSTART:20270328T010000
END:DAYLIGHT
BEGIN:STANDARD
TZOFFSETFROM:+0200
TZOFFSETTO:+0100
TZNAME:CET
DTSTART:20271031T010000
END:STANDARD
END:VTIMEZONE
BEGIN:VEVENT
DTSTART;TZID=Europe/Madrid:20260225T180000
DTEND;TZID=Europe/Madrid:20260225T180000
DTSTAMP:20260424T102846
CREATED:20260126T123429Z
LAST-MODIFIED:20260224T113448Z
UID:8744-1772042400-1772042400@www.sefarad-israel.es
SUMMARY:El arte de Sefarad\, historia de los artistas judíos de España
DESCRIPTION:El arte judío español ha sido abordado tradicionalmente como una nota marginal dentro de la historia cultural del país\, reduciendo su estudio a las escasas sinagogas conservadas y relegando a un segundo plano las manifestaciones pictóricas y escultóricas creadas por artistas sefardíes. Esta visión parcial ha ocultado la verdadera riqueza y complejidad de un arte profundamente entrelazado con las culturas cristiana y musulmana de su tiempo. \nEste ciclo de tres charlas propone una reflexión sobre la riqueza y complejidad del arte judío en España y su presencia en las colecciones públicas del Estado. Durante mucho tiempo\, la historiografía ha considerado las expresiones artísticas del judaísmo hispano como un elemento ajeno al relato del arte español\, situándolas en un segundo plano dentro del amplio patrimonio cultural del país. \nEn este marco\, el historiador del arte Pablo Sánchez\, miembro del Museo Nacional del Prado\, abordará la idea de que\, siendo Sefarad el nombre histórico de España\, lo judío y lo español no pueden entenderse como realidades separadas\, sino como elementos profundamente entrelazados de una misma tradición cultural. \nCentro Sefarad-Israel (C/ Mayor\, 69 – Madrid)\nEntrada libre hasta completar aforo
URL:https://www.sefarad-israel.es/evento/8744/
LOCATION:Centro Sefarad-Israel\, Calle Mayor\, 69\, Madrid\, Comunidad de Madrid\, 28013\, España
CATEGORIES:arte judío español,Conversaciones
ATTACH;FMTTYPE=image/png:https://www.sefarad-israel.es/wp-content/uploads/2026/01/arte-1.png
END:VEVENT
BEGIN:VEVENT
DTSTART;TZID=Europe/Madrid:20260226T180000
DTEND;TZID=Europe/Madrid:20260226T180000
DTSTAMP:20260424T102846
CREATED:20260129T084332Z
LAST-MODIFIED:20260129T084555Z
UID:8783-1772128800-1772128800@www.sefarad-israel.es
SUMMARY:El aporte de los judíos a la cultura polaca
DESCRIPTION:Esta charla propone un recorrido por los aportes fundamentales de las comunidades judías a la cultura polaca\, con especial atención a los siglos XIX y XX\, un periodo clave para la configuración de la Polonia moderna. A través de las artes plásticas\, la literatura y la música\, la sesión abordará cómo la creación cultural judía formó parte activa del tejido intelectual y artístico del país\, contribuyendo de manera decisiva a su desarrollo cultural. \nMás allá de las manifestaciones artísticas\, la sesión explorará también la huella de la cultura judía en la vida cotidiana en Polonia\, desde ámbitos como la cocina hasta prácticas sociales y culturales compartidas. Asimismo\, se analizará el papel desempeñado por intelectuales de origen judío que tuvieron una relevancia singular en los procesos políticos\, culturales e ideológicos que acompañaron la creación del Estado polaco moderno. \nEncuentro a cargo de Sarah Kuźmicz\, pintora y crítica de arte polaca\, Maestra en Letras Hispánicas y Portuguesas por la Universidad Jaguellónica de Cracovia y egresada de la Academia Diplomática del Ministerio de Relaciones Exteriores de Polonia. Formada en pintura y dibujo en el taller de Jan Bujnowski\, ha colaborado como crítica de arte en publicaciones como Letras Libres y Zenda. \nEn estas fechas\, Kuźmicz presenta en el Centro Sefarad-Israel la exposición El rostro significa lo infinito\, que dialoga de manera directa con las reflexiones culturales y estéticas que se abordarán en esta actividad. \nCentro Sefarad-Israel\, MadridEntrada libre hasta completar aforo
URL:https://www.sefarad-israel.es/evento/el-aporte-de-los-judios-a-la-cultura-polaca/
LOCATION:Centro Sefarad-Israel\, Calle Mayor\, 69\, Madrid\, Comunidad de Madrid\, 28013\, España
CATEGORIES:Coloquio
ATTACH;FMTTYPE=image/jpeg:https://www.sefarad-israel.es/wp-content/uploads/2024/12/20250116-Mascaras-vacias-WEB.jpg
END:VEVENT
END:VCALENDAR