BEGIN:VCALENDAR
VERSION:2.0
PRODID:-//Centro Sefarad Israel - ECPv6.15.20//NONSGML v1.0//EN
CALSCALE:GREGORIAN
METHOD:PUBLISH
X-ORIGINAL-URL:https://www.sefarad-israel.es
X-WR-CALDESC:Eventos para Centro Sefarad Israel
REFRESH-INTERVAL;VALUE=DURATION:PT1H
X-Robots-Tag:noindex
X-PUBLISHED-TTL:PT1H
BEGIN:VTIMEZONE
TZID:Europe/Madrid
BEGIN:DAYLIGHT
TZOFFSETFROM:+0100
TZOFFSETTO:+0200
TZNAME:CEST
DTSTART:20250330T010000
END:DAYLIGHT
BEGIN:STANDARD
TZOFFSETFROM:+0200
TZOFFSETTO:+0100
TZNAME:CET
DTSTART:20251026T010000
END:STANDARD
BEGIN:DAYLIGHT
TZOFFSETFROM:+0100
TZOFFSETTO:+0200
TZNAME:CEST
DTSTART:20260329T010000
END:DAYLIGHT
BEGIN:STANDARD
TZOFFSETFROM:+0200
TZOFFSETTO:+0100
TZNAME:CET
DTSTART:20261025T010000
END:STANDARD
BEGIN:DAYLIGHT
TZOFFSETFROM:+0100
TZOFFSETTO:+0200
TZNAME:CEST
DTSTART:20270328T010000
END:DAYLIGHT
BEGIN:STANDARD
TZOFFSETFROM:+0200
TZOFFSETTO:+0100
TZNAME:CET
DTSTART:20271031T010000
END:STANDARD
END:VTIMEZONE
BEGIN:VEVENT
DTSTART;TZID=Europe/Madrid:20260223T190000
DTEND;TZID=Europe/Madrid:20260223T203000
DTSTAMP:20260422T180806
CREATED:20260129T082714Z
LAST-MODIFIED:20260223T121649Z
UID:8780-1771873200-1771878600@www.sefarad-israel.es
SUMMARY:Memoria pública del Holocausto en España: desafíos\, tensiones y sentidos en disputa
DESCRIPTION:España conmemora oficialmente el Holocausto cada 27 de enero\, fecha de la liberación de Auschwitz-Birkenau\, desde hace más de dos décadas. Estos actos\, celebrados en el Senado\, parlamentos autonómicos\, ayuntamientos y centros educativos\, han reunido a representantes institucionales\, colectivos sociales\, supervivientes y educadores bajo el lema “Nunca Más”. Sin embargo\, los significados atribuidos a esta consigna no han sido siempre homogéneos y\, en determinados contextos\, han dado lugar a tensiones\, procesos de banalización o incluso a distorsiones e inversiones antisemitas\, especialmente en escenarios de polarización política y de instrumentalización del pasado. \nEn este marco\, la mesa redonda propone una reflexión crítica sobre los desafíos actuales de la memoria pública del Holocausto en España. ¿Quiénes son hoy los destinatarios prioritarios de estas conmemoraciones? ¿Qué función social cumplen? ¿Debe seguir recordándose del mismo modo o es necesario replantear contenidos\, formatos y objetivos pedagógicos para evitar el vaciamiento simbólico y la manipulación ideológica de la memoria? \nLa sesión invita a debatir estas cuestiones desde perspectivas sociológicas\, educativas y memoriales\, en un momento en que el sentido mismo del “Nunca Más” se encuentra en disputa en el espacio público. \nParticipan en esta mesa redonda Alejandro Baer\, investigador del CSIC y especialista en antisemitismo y memoria del Holocausto; José Ignacio Jiménez Blanco\, vice presidente de Yad Vashem España; Marta Simó\, profesora de la Universidad de Barcelona experta en educación y memoria del Holocausto; y Esteban Ibarra\, presidente de Movimiento contra la Intolerancia. Moderará Rosa Méndez\, Responsable de Educación\, Holocausto y Antisemitismo de Centro Sefarad-Israel. \nCentro Sefarad-Israel (C/ Mayor\, 69. Madrid)\nEntrada libre hasta completar aforo
URL:https://www.sefarad-israel.es/evento/memoria-publica-del-holocausto/
LOCATION:Centro Sefarad-Israel\, Calle Mayor\, 69\, Madrid\, Comunidad de Madrid\, 28013\, España
CATEGORIES:Mesa redonda
ATTACH;FMTTYPE=image/jpeg:https://www.sefarad-israel.es/wp-content/uploads/2024/06/164966_w-3840_h-2160_q-70_m-crop-scaled.jpg
END:VEVENT
END:VCALENDAR