BEGIN:VCALENDAR
VERSION:2.0
PRODID:-//Centro Sefarad Israel - ECPv6.15.20//NONSGML v1.0//EN
CALSCALE:GREGORIAN
METHOD:PUBLISH
X-WR-CALNAME:Centro Sefarad Israel
X-ORIGINAL-URL:https://www.sefarad-israel.es
X-WR-CALDESC:Eventos para Centro Sefarad Israel
REFRESH-INTERVAL;VALUE=DURATION:PT1H
X-Robots-Tag:noindex
X-PUBLISHED-TTL:PT1H
BEGIN:VTIMEZONE
TZID:Europe/Madrid
BEGIN:DAYLIGHT
TZOFFSETFROM:+0100
TZOFFSETTO:+0200
TZNAME:CEST
DTSTART:20250330T010000
END:DAYLIGHT
BEGIN:STANDARD
TZOFFSETFROM:+0200
TZOFFSETTO:+0100
TZNAME:CET
DTSTART:20251026T010000
END:STANDARD
BEGIN:DAYLIGHT
TZOFFSETFROM:+0100
TZOFFSETTO:+0200
TZNAME:CEST
DTSTART:20260329T010000
END:DAYLIGHT
BEGIN:STANDARD
TZOFFSETFROM:+0200
TZOFFSETTO:+0100
TZNAME:CET
DTSTART:20261025T010000
END:STANDARD
BEGIN:DAYLIGHT
TZOFFSETFROM:+0100
TZOFFSETTO:+0200
TZNAME:CEST
DTSTART:20270328T010000
END:DAYLIGHT
BEGIN:STANDARD
TZOFFSETFROM:+0200
TZOFFSETTO:+0100
TZNAME:CET
DTSTART:20271031T010000
END:STANDARD
END:VTIMEZONE
BEGIN:VEVENT
DTSTART;TZID=Europe/Madrid:20260216T180000
DTEND;TZID=Europe/Madrid:20260216T180000
DTSTAMP:20260422T193456
CREATED:20260121T113735Z
LAST-MODIFIED:20260209T112022Z
UID:8727-1771264800-1771264800@www.sefarad-israel.es
SUMMARY:La historia del antisemitismo en España en los siglos XIX y XX
DESCRIPTION:Dentro del ciclo del complot judeomasónico\, el Centro Sefarad-Israel acoge la conferencia La historia del antisemitismo en España en los siglos XIX y XX\, a cargo del historiador Gonzalo Álvarez Chillida\, profesor del Departamento de Historia del Pensamiento y de los Movimientos Sociales y Políticos de la Universidad Complutense de Madrid. \nLa sesión propone un recorrido histórico y crítico por la evolución del antisemitismo en la España contemporánea. A lo largo del siglo XIX\, en un país mayoritariamente ajeno a la presencia judía tras siglos de expulsión y conversión forzada\, comienzan a instalarse algunas personalidades y familias judías\, al tiempo que se reconfiguran viejos prejuicios en un contexto de liberalismo\, nacionalismo y construcción del Estado moderno. En ese periodo se forjan estereotipos y discursos que\, aunque a menudo importados de otros contextos europeos\, arraigan en el imaginario político y cultural español. \nEl siglo XX intensifica estas dinámicas. La Guerra Civil española provoca el exilio de numerosas familias judías y la posterior dictadura franquista consolida un marco ideológico hostil\, en el que el antisemitismo se articula de forma singular a través del mito del “contubernio judeomasónico”. Durante décadas\, la vida judía en España queda severamente limitada: muchas personas se ven obligadas a ocultar su identidad o a integrarse mediante la conversión. No será hasta finales de los años sesenta\, en un contexto de apertura internacional y cambios legislativos\, cuando comiencen a formarse comunidades judías estables\, origen de la realidad plural que existe en la España actual. \nEsta conferencia se inscribe en un ciclo que invita a analizar críticamente los discursos conspirativos\, su persistencia histórica y su impacto en la cultura política española\, aportando claves para comprender tanto el pasado como los retos contemporáneos en la lucha contra el antisemitismo y otras formas de discriminación. \nCentro Sefarad-Israel (C/ Mayor\, 69 – Madrid)Entrada libre hasta completar aforo\n 
URL:https://www.sefarad-israel.es/evento/antisemitismo-en-espana-en-los-siglos-xix-y-xx/
LOCATION:Centro Sefarad-Israel\, Calle Mayor\, 69\, Madrid\, Comunidad de Madrid\, 28013\, España
CATEGORIES:Conferencia
ATTACH;FMTTYPE=image/jpeg:https://www.sefarad-israel.es/wp-content/uploads/2025/09/img133.jpg
END:VEVENT
END:VCALENDAR