BEGIN:VCALENDAR
VERSION:2.0
PRODID:-//Centro Sefarad Israel - ECPv6.15.20//NONSGML v1.0//EN
CALSCALE:GREGORIAN
METHOD:PUBLISH
X-ORIGINAL-URL:https://www.sefarad-israel.es
X-WR-CALDESC:Eventos para Centro Sefarad Israel
REFRESH-INTERVAL;VALUE=DURATION:PT1H
X-Robots-Tag:noindex
X-PUBLISHED-TTL:PT1H
BEGIN:VTIMEZONE
TZID:Europe/Madrid
BEGIN:DAYLIGHT
TZOFFSETFROM:+0100
TZOFFSETTO:+0200
TZNAME:CEST
DTSTART:20230326T010000
END:DAYLIGHT
BEGIN:STANDARD
TZOFFSETFROM:+0200
TZOFFSETTO:+0100
TZNAME:CET
DTSTART:20231029T010000
END:STANDARD
BEGIN:DAYLIGHT
TZOFFSETFROM:+0100
TZOFFSETTO:+0200
TZNAME:CEST
DTSTART:20240331T010000
END:DAYLIGHT
BEGIN:STANDARD
TZOFFSETFROM:+0200
TZOFFSETTO:+0100
TZNAME:CET
DTSTART:20241027T010000
END:STANDARD
BEGIN:DAYLIGHT
TZOFFSETFROM:+0100
TZOFFSETTO:+0200
TZNAME:CEST
DTSTART:20250330T010000
END:DAYLIGHT
BEGIN:STANDARD
TZOFFSETFROM:+0200
TZOFFSETTO:+0100
TZNAME:CET
DTSTART:20251026T010000
END:STANDARD
END:VTIMEZONE
BEGIN:VEVENT
DTSTART;TZID=Europe/Madrid:20241015T100000
DTEND;TZID=Europe/Madrid:20241015T100000
DTSTAMP:20260425T173911
CREATED:20240923T082846Z
LAST-MODIFIED:20241009T102822Z
UID:4596-1728986400-1728986400@www.sefarad-israel.es
SUMMARY:I Foro sobre prevención\, monitoreo y lucha contra el antisemitismo en entornos digitales
DESCRIPTION:El I Foro sobre prevención\, monitoreo y lucha contra el antisemitismo en entornos digitales se centra en el análisis de un fenómeno comunicativo complejo que se ha intensificado en la era digital. El foro pretende explorar cómo las dinámicas de la comunicación en línea\, incluidas las redes sociales\, foros y otras plataformas\, facilitan la difusión de mensajes de odio y desinformación. Se analizarán los mecanismos de viralización de estos discursos y la manera en que la arquitectura de las plataformas digitales puede contribuir tanto a la propagación como al combate del antisemitismo en la esfera pública. \nEste encuentro también busca abordar las estrategias comunicativas que se pueden emplear para contrarrestar la narrativa de odio en los entornos digitales. Los expertos en comunicación\, tecnología y sociedad discutirán cómo se puede utilizar la comunicación digital para crear mensajes efectivos que promuevan la convivencia y el respeto. \nPROGRAMA\n10:00 h. Inauguración \nMesa redonda “La persecución de los delitos de odio en entornos digitales en el marco de la legislación europea” \nParticipan: \nChristel Mercade Piqueras\, legal officer de la unidad de política de derechos fundamentales en la Dirección General de Justicia y Consumidores de la Unión Europea \nMiguel Ángel Aguilar\, fiscal de sala coordinador de la Unidad de Delitos de Odio y Discriminación de la Fiscalía General del Estado \nTomás Fernández Villazala\, jefe de la Oficina Nacional de lucha contra los Delitos de Odio \nModera: Jaime Moreno\, director del Centro Sefarad-Israel \n11:00 h. Mesa redonda “Mecanismos de las plataformas para la lucha contra el antisemitismo en entornos digitales” \nParticipan: \nHélène Verbrugghe\, Public Policy Manager Spain & Portugal Meta Group. \nYasmina Larau\, responsable de Relaciones Institucionales de Tik Tok España. \nModera: Israel Doncel\, responsable de Comunicación del Centro Sefarad-Israel \n12:30 h. Café. \n12:45 h. Mesa redonda “Antisemitismo y monitorización en entornos digitales. La mirada de las comunidades judías”. \nParticipan: \nMaría Royo\, directora de Comunicación de la Federación de Comunidades Judías de España y coordinadora del Observatorio de Antisemitismo. \nCarmen Girón\, consejera técnica de Oberaxe. \nYael Sánchez\, presidenta de la Federación de Jóvenes Judíos en España. \nModera: Ana Pellicer\, responsable de Relaciones Institucionales del Centro Sefarad-Israel \n  \nLa entrada al foro es libre\, previa confirmación en el enlace que encontrarán más abajo. \n#FPMLAD24
URL:https://www.sefarad-israel.es/evento/antisemitismo-entornos-digitales/
LOCATION:Centro Sefarad-Israel\, Calle Mayor\, 69\, Madrid\, Comunidad de Madrid\, 28013\, España
CATEGORIES:Congreso
ATTACH;FMTTYPE=image/jpeg:https://www.sefarad-israel.es/wp-content/uploads/2024/09/Foro-antisemitismo-web.jpg
END:VEVENT
END:VCALENDAR