BEGIN:VCALENDAR
VERSION:2.0
PRODID:-//Centro Sefarad Israel - ECPv6.15.20//NONSGML v1.0//EN
CALSCALE:GREGORIAN
METHOD:PUBLISH
X-WR-CALNAME:Centro Sefarad Israel
X-ORIGINAL-URL:https://www.sefarad-israel.es
X-WR-CALDESC:Eventos para Centro Sefarad Israel
REFRESH-INTERVAL;VALUE=DURATION:PT1H
X-Robots-Tag:noindex
X-PUBLISHED-TTL:PT1H
BEGIN:VTIMEZONE
TZID:Europe/Madrid
BEGIN:DAYLIGHT
TZOFFSETFROM:+0100
TZOFFSETTO:+0200
TZNAME:CEST
DTSTART:20240331T010000
END:DAYLIGHT
BEGIN:STANDARD
TZOFFSETFROM:+0200
TZOFFSETTO:+0100
TZNAME:CET
DTSTART:20241027T010000
END:STANDARD
BEGIN:DAYLIGHT
TZOFFSETFROM:+0100
TZOFFSETTO:+0200
TZNAME:CEST
DTSTART:20250330T010000
END:DAYLIGHT
BEGIN:STANDARD
TZOFFSETFROM:+0200
TZOFFSETTO:+0100
TZNAME:CET
DTSTART:20251026T010000
END:STANDARD
BEGIN:DAYLIGHT
TZOFFSETFROM:+0100
TZOFFSETTO:+0200
TZNAME:CEST
DTSTART:20260329T010000
END:DAYLIGHT
BEGIN:STANDARD
TZOFFSETFROM:+0200
TZOFFSETTO:+0100
TZNAME:CET
DTSTART:20261025T010000
END:STANDARD
END:VTIMEZONE
BEGIN:VEVENT
DTSTART;TZID=Europe/Madrid:20251020T180000
DTEND;TZID=Europe/Madrid:20251020T180000
DTSTAMP:20260424T140510
CREATED:20250912T105829Z
LAST-MODIFIED:20251020T085657Z
UID:7409-1760983200-1760983200@www.sefarad-israel.es
SUMMARY:El Ciclo del Año Judío\, por el Rabino Moshe Bendahan
DESCRIPTION:PRESENTACIÓN DEL CENTRO DE ESTUDIOS DE JUDAÍSMO BETH AMIDRACH\n \nEl Rabino Moshe Bendahan\, referente en el ámbito de la educación judía\, ofrecerá una charla sobre los valores del judaísmo y el sentido del ciclo de festividades anuales. La conferencia servirá además como presentación de su nueva labor educativa\, que podrá seguirse a través del Centro de Estudios de Judaísmo Beth Amidrach\, en modalidad online. \nEl ciclo de festividades judías refleja un equilibrio entre la memoria histórica\, la vida espiritual y el ritmo agrícola de la tierra\, constituyendo un pilar esencial en la transmisión cultural y religiosa del judaísmo. \nEl Rabino Moshe Bendahan ha sido durante 39 años Gran Rabino de la Comunidad Judía de Madrid\, sucediendo a Yehudá Benasuli. Estudió en la prestigiosa Yeshiba Porat Yosef y se licenció en el Centro de Estudios Mijlelet Lifshits\, especializado en Biblia y Pensamiento Judío. En el Midrash Sefardí se graduó como Rabino\, Shojet (encargado de los alimentos kasher) y Mohel (circuncidador ritual). Ha fundado un Bet HaMidrash en línea para continuar desarrollando su labor educativa. Asimismo\, ejerció durante 20 años como Presidente del Consejo Rabínico de España.
URL:https://www.sefarad-israel.es/evento/el-ciclo-del-ano-judio-por-el-rabino-moshe-bendahan/
LOCATION:Centro Sefarad-Israel\, Calle Mayor\, 69\, Madrid\, Comunidad de Madrid\, 28013\, España
CATEGORIES:Conversaciones,Presentación
ATTACH;FMTTYPE=image/jpeg:https://www.sefarad-israel.es/wp-content/uploads/2025/09/Shiur_Klali_in_Yeshivas_Kerem_BYavne-scaled.jpg
END:VEVENT
END:VCALENDAR