BEGIN:VCALENDAR
VERSION:2.0
PRODID:-//Centro Sefarad Israel - ECPv6.15.20//NONSGML v1.0//EN
CALSCALE:GREGORIAN
METHOD:PUBLISH
X-WR-CALNAME:Centro Sefarad Israel
X-ORIGINAL-URL:https://www.sefarad-israel.es
X-WR-CALDESC:Eventos para Centro Sefarad Israel
REFRESH-INTERVAL;VALUE=DURATION:PT1H
X-Robots-Tag:noindex
X-PUBLISHED-TTL:PT1H
BEGIN:VTIMEZONE
TZID:Europe/Madrid
BEGIN:DAYLIGHT
TZOFFSETFROM:+0100
TZOFFSETTO:+0200
TZNAME:CEST
DTSTART:20240331T010000
END:DAYLIGHT
BEGIN:STANDARD
TZOFFSETFROM:+0200
TZOFFSETTO:+0100
TZNAME:CET
DTSTART:20241027T010000
END:STANDARD
BEGIN:DAYLIGHT
TZOFFSETFROM:+0100
TZOFFSETTO:+0200
TZNAME:CEST
DTSTART:20250330T010000
END:DAYLIGHT
BEGIN:STANDARD
TZOFFSETFROM:+0200
TZOFFSETTO:+0100
TZNAME:CET
DTSTART:20251026T010000
END:STANDARD
BEGIN:DAYLIGHT
TZOFFSETFROM:+0100
TZOFFSETTO:+0200
TZNAME:CEST
DTSTART:20260329T010000
END:DAYLIGHT
BEGIN:STANDARD
TZOFFSETFROM:+0200
TZOFFSETTO:+0100
TZNAME:CET
DTSTART:20261025T010000
END:STANDARD
END:VTIMEZONE
BEGIN:VEVENT
DTSTART;TZID=Europe/Madrid:20251202T180000
DTEND;TZID=Europe/Madrid:20251202T180000
DTSTAMP:20260422T195118
CREATED:20251118T102047Z
LAST-MODIFIED:20251118T102326Z
UID:8210-1764698400-1764698400@www.sefarad-israel.es
SUMMARY:La expulsión de los judíos y el prisma del tiempo\, de Isidro González
DESCRIPTION:Este encuentro abordará la presentación del nuevo ensayo de Isidro González\, La expulsión de los judíos y el prisma del tiempo\, una obra que revisita uno de los acontecimientos más determinantes de la historia de España: la expulsión de los judíos en 1492. \nResultado de más de cuarenta años de investigación\, el libro propone una lectura renovada y matizada de este episodio histórico\, cuestionando la llamada “leyenda negra” y explorando la compleja evolución —política\, social y cultural— que ha acompañado su interpretación a lo largo de los siglos. El autor analiza no solo las polémicas que generó la expulsión\, sino también los vínculos sostenidos\, y a menudo desconocidos\, entre España y los descendientes de los sefardíes desde el siglo XVI hasta la actualidad\, con especial atención al renovado interés y a los desarrollos de los siglos XIX y XX que culminaron con la concesión de la nacionalidad española a los sefardíes en 2015. \nLa presentación invitará a reflexionar\, revisar tópicos y abrir nuevas preguntas\, siguiendo el espíritu del propio libro\, que combina rigor histórico con un enfoque ensayístico que interpela al lector. “Más importante que dar soluciones es saber hacer preguntas”\, recuerda el autor citando al Talmud\, una idea que vertebra toda su propuesta intelectual.
URL:https://www.sefarad-israel.es/evento/la-expulsion-de-los-judios-y-el-prisma-del-tiempo-de-isidro-gonzalez/
LOCATION:Centro Sefarad-Israel\, Calle Mayor\, 69\, Madrid\, Comunidad de Madrid\, 28013\, España
CATEGORIES:Libro,Presentación
ATTACH;FMTTYPE=image/jpeg:https://www.sefarad-israel.es/wp-content/uploads/2025/08/fotograma_libros_3-ALANTASI.jpg
END:VEVENT
BEGIN:VEVENT
DTSTART;TZID=Europe/Madrid:20251218T180000
DTEND;TZID=Europe/Madrid:20251218T180000
DTSTAMP:20260422T195118
CREATED:20251117T102716Z
LAST-MODIFIED:20251117T102921Z
UID:8174-1766080800-1766080800@www.sefarad-israel.es
SUMMARY:Mi nombre es cualquiera\, de Nicolás Hernández-Castilla
DESCRIPTION:Nicolás Hernández-Castilla (León\, 1961) es economista\, doctor en Economía y miembro del Cuerpo de Técnicos Comerciales y Economistas del Estado. Su trayectoria profesional en distintos ámbitos de la administración pública y del sector privado\, así como su experiencia internacional y su dedicación al estudio del judaísmo\, el islam y diversas lenguas\, conforman el marco intelectual desde el que se desarrolla esta primera obra literaria. \nSu novela Mi nombre es cualquiera presenta el itinerario de Yosef Coen\, médico sefardí que abandona Alepo tras la guerra civil siria. En su huida conoce a Yasmina\, enfermera musulmana sufí\, con quien emprende un recorrido que los conduce a través de distintos países y realidades culturales. El relato aborda la experiencia del exilio\, la vulnerabilidad y la búsqueda de un nuevo comienzo. \nLa presentación contará con la participación del autor y la intervención de Gabriel Alonso-Carro\, doctor en Filosofía y ex jefe de estudios de la Escuela Diplomática.
URL:https://www.sefarad-israel.es/evento/mi-nombre-es-cualquiera/
LOCATION:Centro Sefarad-Israel\, Calle Mayor\, 69\, Madrid\, Comunidad de Madrid\, 28013\, España
CATEGORIES:Libro,Presentación
ATTACH;FMTTYPE=image/jpeg:https://www.sefarad-israel.es/wp-content/uploads/2025/11/Nicolas-Hernandez-Castilla.jpeg
END:VEVENT
END:VCALENDAR