BEGIN:VCALENDAR
VERSION:2.0
PRODID:-//Centro Sefarad Israel - ECPv6.15.20//NONSGML v1.0//EN
CALSCALE:GREGORIAN
METHOD:PUBLISH
X-ORIGINAL-URL:https://www.sefarad-israel.es
X-WR-CALDESC:Eventos para Centro Sefarad Israel
REFRESH-INTERVAL;VALUE=DURATION:PT1H
X-Robots-Tag:noindex
X-PUBLISHED-TTL:PT1H
BEGIN:VTIMEZONE
TZID:Europe/Madrid
BEGIN:DAYLIGHT
TZOFFSETFROM:+0100
TZOFFSETTO:+0200
TZNAME:CEST
DTSTART:20240331T010000
END:DAYLIGHT
BEGIN:STANDARD
TZOFFSETFROM:+0200
TZOFFSETTO:+0100
TZNAME:CET
DTSTART:20241027T010000
END:STANDARD
BEGIN:DAYLIGHT
TZOFFSETFROM:+0100
TZOFFSETTO:+0200
TZNAME:CEST
DTSTART:20250330T010000
END:DAYLIGHT
BEGIN:STANDARD
TZOFFSETFROM:+0200
TZOFFSETTO:+0100
TZNAME:CET
DTSTART:20251026T010000
END:STANDARD
BEGIN:DAYLIGHT
TZOFFSETFROM:+0100
TZOFFSETTO:+0200
TZNAME:CEST
DTSTART:20260329T010000
END:DAYLIGHT
BEGIN:STANDARD
TZOFFSETFROM:+0200
TZOFFSETTO:+0100
TZNAME:CET
DTSTART:20261025T010000
END:STANDARD
END:VTIMEZONE
BEGIN:VEVENT
DTSTART;TZID=Europe/Madrid:20251103T180000
DTEND;TZID=Europe/Madrid:20251103T180000
DTSTAMP:20260422T212756
CREATED:20251017T073647Z
LAST-MODIFIED:20251023T095446Z
UID:7940-1762192800-1762192800@www.sefarad-israel.es
SUMMARY:Patrimonio judío en la Comunidad de Madrid II: Torrelaguna\, Buitrago del Lozoya y San Martín de Valdeiglesias
DESCRIPTION:El ciclo Huellas y patrimonio cultural de los judíos para el turismo en la Comunidad de Madrid\, dirigido por la catedrática de Historia Antigua Nuria Morere Molinero (Universidad Rey Juan Carlos)\, invita a descubrir y poner en valor el legado judío en la región madrileña. La presencia judía en Madrid se remonta a la Edad Media y\, aunque su historia sigue siendo poco conocida\, las investigaciones y excavaciones más recientes están sacando a la luz nuevos datos que permiten reconstruir una parte esencial de nuestro pasado. \nCon este programa se busca fomentar el conocimiento\, la colaboración entre instituciones y la difusión de las huellas judías presentes en distintos municipios de la Comunidad de Madrid\, integrando la historia y el patrimonio en propuestas culturales y turísticas accesibles. \nLa tercera sesión del ciclo estará centrada en el patrimonio cultural judío de Torrelaguna\, Buitrago del Lozoya y San Martín de Valdeiglesias\, tres localidades que conservan valiosos vestigios de la vida judía medieval. El encuentro contará con la participación del profesor Enrique Cantera Montenegro (Universidad Nacional de Educación a Distancia – UNED)\, de representantes de Patrimonio y Turismo de los ayuntamientos de las localidades mencionadas y de la propia Nuria Morere (Universidad Rey Juan Carlos). \nCentro Sefarad-Israel (C/ Mayor\, 69 – Madrid)\nEntrada libre hasta completar aforo
URL:https://www.sefarad-israel.es/evento/patrimonio-cultural-historia-de-los-judios-en-la-comunidad-de-madrid-ii/
LOCATION:Centro Sefarad-Israel\, Calle Mayor\, 69\, Madrid\, Comunidad de Madrid\, 28013\, España
CATEGORIES:Presentación
ATTACH;FMTTYPE=image/jpeg:https://www.sefarad-israel.es/wp-content/uploads/2025/06/image-086.jpg
END:VEVENT
BEGIN:VEVENT
DTSTART;TZID=Europe/Madrid:20251106T180000
DTEND;TZID=Europe/Madrid:20251106T180000
DTSTAMP:20260422T212756
CREATED:20251017T081338Z
LAST-MODIFIED:20251031T120145Z
UID:7948-1762452000-1762452000@www.sefarad-israel.es
SUMMARY:Ezra de Gerona y su comentario al Cantar de los Cantares
DESCRIPTION:Conferencia en línea dedicada a la figura de Ezra de Gerona (Gerona\, 1175 – 1245)\, cabalista y exegeta\, miembro destacado del círculo cabalístico de Gerona y una de las figuras centrales de la primera generación de la cábala catalana. \nEntre las obras conocidas de Ezra figuran un Comentario al Cantar de los Cantares (Perus Shir ha-Shirim)\, atribuido durante mucho tiempo a Najmánides\, y comentarios a las Aggadot del Talmud\, que fueron confundidos con los de Azriel. Según Abraham Abulafia\, escribió también un comentario al Sefer Yetsirá\, hoy perdido. \nConferencia impartida por la doctora Jadwiga Clea Moreno-Szypowska\, investigadora del Instituto de Investigación Literaria de la Academia Polaca de Ciencias y colaboradora habitual del Centro Sefarad-Israel\, cuyas investigaciones se centran en la cultura judía en la España medieval\, la influencia del pensamiento judío en la literatura del Siglo de Oro y las manifestaciones del pensamiento sefardí contemporáneo. \n 
URL:https://www.sefarad-israel.es/evento/ezra-de-gerona/
LOCATION:Actividad online. Canal de YouTube de Centro Sefarad-Israel
CATEGORIES:Online,Presentación
ATTACH;FMTTYPE=image/jpeg:https://www.sefarad-israel.es/wp-content/uploads/2025/10/ALANTASI-fotograma_libros_1-1.jpg
END:VEVENT
BEGIN:VEVENT
DTSTART;TZID=Europe/Madrid:20251112T180000
DTEND;TZID=Europe/Madrid:20251112T180000
DTSTAMP:20260422T212756
CREATED:20251017T081617Z
LAST-MODIFIED:20251023T100312Z
UID:7950-1762970400-1762970400@www.sefarad-israel.es
SUMMARY:Patrimonio cultural judío en la Comunidad de Madrid III: Propuestas turísticas
DESCRIPTION:Tras las primeras sesiones dedicadas a la historia de los judíos en la Comunidad de Madrid y en Alcalá de Henares\, así como al patrimonio de localidades como Torrelaguna\, Buitrago del Lozoya y San Martín de Valdeiglesias\, el ciclo continúa con una nueva cita orientada al ámbito del turismo cultural y la gestión patrimonial. \nLa sesión del 12 de noviembre\, a las 18:00 horas\, estará dedicada a las propuestas turísticas vinculadas al patrimonio judío\, con especial atención a la labor de la Red de Juderías de España\, el Itinerario Cultural del Consejo de Europa y el papel de los museos en la difusión de este legado. En la mesa redonda\, Helena Domínguez del Triunfo (Universidad Rey Juan Carlos) conversará con representantes de la Red de Juderías de España y del Museo Sefardí de Toledo. \nCon esta cuarta sesión se afianza el compromiso del ciclo con la creación de sinergias entre el ámbito académico\, institucional y turístico\, orientadas a reconocer y difundir la riqueza del patrimonio judío en la Comunidad de Madrid y en el conjunto de España. \nCentro Sefarad-Israel (C/ Mayor\, 69 – Madrid)\nEntrada libre hasta completar aforo
URL:https://www.sefarad-israel.es/evento/patrimonio-cultural-historia-de-los-judios-en-la-comunidad-de-madrid-iii/
LOCATION:Centro Sefarad-Israel\, Calle Mayor\, 69\, Madrid\, Comunidad de Madrid\, 28013\, España
CATEGORIES:Presentación
ATTACH;FMTTYPE=image/jpeg:https://www.sefarad-israel.es/wp-content/uploads/2025/06/image-086.jpg
END:VEVENT
END:VCALENDAR