BEGIN:VCALENDAR
VERSION:2.0
PRODID:-//Centro Sefarad Israel - ECPv6.15.20//NONSGML v1.0//EN
CALSCALE:GREGORIAN
METHOD:PUBLISH
X-WR-CALNAME:Centro Sefarad Israel
X-ORIGINAL-URL:https://www.sefarad-israel.es
X-WR-CALDESC:Eventos para Centro Sefarad Israel
REFRESH-INTERVAL;VALUE=DURATION:PT1H
X-Robots-Tag:noindex
X-PUBLISHED-TTL:PT1H
BEGIN:VTIMEZONE
TZID:Europe/Madrid
BEGIN:DAYLIGHT
TZOFFSETFROM:+0100
TZOFFSETTO:+0200
TZNAME:CEST
DTSTART:20250330T010000
END:DAYLIGHT
BEGIN:STANDARD
TZOFFSETFROM:+0200
TZOFFSETTO:+0100
TZNAME:CET
DTSTART:20251026T010000
END:STANDARD
BEGIN:DAYLIGHT
TZOFFSETFROM:+0100
TZOFFSETTO:+0200
TZNAME:CEST
DTSTART:20260329T010000
END:DAYLIGHT
BEGIN:STANDARD
TZOFFSETFROM:+0200
TZOFFSETTO:+0100
TZNAME:CET
DTSTART:20261025T010000
END:STANDARD
BEGIN:DAYLIGHT
TZOFFSETFROM:+0100
TZOFFSETTO:+0200
TZNAME:CEST
DTSTART:20270328T010000
END:DAYLIGHT
BEGIN:STANDARD
TZOFFSETFROM:+0200
TZOFFSETTO:+0100
TZNAME:CET
DTSTART:20271031T010000
END:STANDARD
END:VTIMEZONE
BEGIN:VEVENT
DTSTART;TZID=Europe/Madrid:20260122T180000
DTEND;TZID=Europe/Madrid:20260122T180000
DTSTAMP:20260424T155644
CREATED:20251222T085057Z
LAST-MODIFIED:20260119T125022Z
UID:8490-1769104800-1769104800@www.sefarad-israel.es
SUMMARY:Ladrones de Sueños: Canciones de la Poetisa Secreta de Theresienstadt
DESCRIPTION:  \nCentro Sefarad-Israel\, con el apoyo de Canada Council for the Arts\, presenta un concierto-recital poético para voz y piano a cargo de la célebre vocalista y compositora Lenka Lichtenberg\, quien llega a Madrid con su aclamado proyecto Ladrones de Sueños\, ganador del Juno Awards. \nEsta obra íntima y profundamente conmovedora parte de los poemas recientemente descubiertos que escribió su abuela\, Hana\, entre 1942 y 1945\, durante su cautiverio en Theresienstadt\, campo de concentración de la Segunda Guerra Mundial en la entonces Checoslovaquia. A través de la música y la palabra\, Ladrones de Sueños transforma estos textos —marcados por el amor\, las relaciones humanas\, los sueños de lugares lejanos\, la esperanza y la fe— en una experiencia artística de gran fuerza emocional. \nEl álbum ha tenido una extraordinaria acogida internacional\, además de obtener dos nominaciones al Premio Canadiense de Música Folk\, consolidándose como una de las propuestas más singulares del panorama musical contemporáneo por su capacidad de unir memoria\, creación y emoción. \nEl proyecto\, coordinado por Dan Rosenberg\, contará con narración en español a cargo de Enrique Helguera\, reconocido conductor del programa Los Ultrasónicos en Radio Nacional de España\, aportando una mediación cercana que guiará al público a lo largo de este viaje musical y poético por la memoria\, la resistencia y la dignidad humanas. \n 
URL:https://www.sefarad-israel.es/evento/ladrones-de-suenos-canciones-de-la-poetisa-secreta-de-theresienstadt/
LOCATION:Comunidad de Madrid
CATEGORIES:Performance,Poesía
ATTACH;FMTTYPE=image/png:https://www.sefarad-israel.es/wp-content/uploads/2025/12/1.png
END:VEVENT
END:VCALENDAR