BEGIN:VCALENDAR
VERSION:2.0
PRODID:-//Centro Sefarad Israel - ECPv6.15.20//NONSGML v1.0//EN
CALSCALE:GREGORIAN
METHOD:PUBLISH
X-ORIGINAL-URL:https://www.sefarad-israel.es
X-WR-CALDESC:Eventos para Centro Sefarad Israel
REFRESH-INTERVAL;VALUE=DURATION:PT1H
X-Robots-Tag:noindex
X-PUBLISHED-TTL:PT1H
BEGIN:VTIMEZONE
TZID:Europe/Madrid
BEGIN:DAYLIGHT
TZOFFSETFROM:+0100
TZOFFSETTO:+0200
TZNAME:CEST
DTSTART:20240331T010000
END:DAYLIGHT
BEGIN:STANDARD
TZOFFSETFROM:+0200
TZOFFSETTO:+0100
TZNAME:CET
DTSTART:20241027T010000
END:STANDARD
BEGIN:DAYLIGHT
TZOFFSETFROM:+0100
TZOFFSETTO:+0200
TZNAME:CEST
DTSTART:20250330T010000
END:DAYLIGHT
BEGIN:STANDARD
TZOFFSETFROM:+0200
TZOFFSETTO:+0100
TZNAME:CET
DTSTART:20251026T010000
END:STANDARD
BEGIN:DAYLIGHT
TZOFFSETFROM:+0100
TZOFFSETTO:+0200
TZNAME:CEST
DTSTART:20260329T010000
END:DAYLIGHT
BEGIN:STANDARD
TZOFFSETFROM:+0200
TZOFFSETTO:+0100
TZNAME:CET
DTSTART:20261025T010000
END:STANDARD
END:VTIMEZONE
BEGIN:VEVENT
DTSTART;TZID=Europe/Madrid:20250306T180000
DTEND;TZID=Europe/Madrid:20250306T180000
DTSTAMP:20260425T053215
CREATED:20250210T101846Z
LAST-MODIFIED:20250210T113013Z
UID:5458-1741284000-1741284000@www.sefarad-israel.es
SUMMARY:Conferencia: “Las mujeres brigadistas”
DESCRIPTION:En el marco del ciclo de conferencias en torno a la exposición “Por vuestra libertad y la nuestra. Judíos en las Brigadas Internacionales”\, su comisaria\, Almudena Cruz-Yábar nos hablará de la presencia fundamental de mujeres judía en la Brigadas Internacionales. En el repaso a las figuras históricas más representativas como Kati Horna\, Gerda Taro o  Mika “la capitana”\, veremos cómo una serie de mujeres valientes rompieron estereotipos y prejuicios peleando contra el fascismo. Es esta una de las líneas de investigación más relevantes de la exposición y que arroja luz sobre un episodio apenas conocido de la Guerra Civil española. \nEntrada libre hasta completar aforo. \n \n 
URL:https://www.sefarad-israel.es/evento/conferencia-las-mujeres-brigadistas/
LOCATION:Centro Sefarad-Israel\, Calle Mayor\, 69\, Madrid\, Comunidad de Madrid\, 28013\, España
CATEGORIES:Conferencia,Conversaciones
ATTACH;FMTTYPE=image/jpeg:https://www.sefarad-israel.es/wp-content/uploads/2025/02/20250306-Mujeres-Brigadistas-WEB.jpg
END:VEVENT
BEGIN:VEVENT
DTSTART;TZID=Europe/Madrid:20250311T180000
DTEND;TZID=Europe/Madrid:20250311T200000
DTSTAMP:20260425T053215
CREATED:20241217T081836Z
LAST-MODIFIED:20241218T110536Z
UID:5217-1741716000-1741723200@www.sefarad-israel.es
SUMMARY:‘Cada historia cuenta’ Formación para educadores contra el antisemitismo y la discriminación (3ª Sesión)
DESCRIPTION:Herramienta didáctica de la mano de la Casa Ana Frank. \nLa Casa de Ana Frank en colaboración con la Universidad de Barcelona y Centro Sefarad-Israel\, ofrece la formación “Stories that move” en español dirigida a educadores en la que se trabajarán herramientas didácticas para abordar el antisemitismo\, el Holocausto y la discriminación en el aula. El objetivo de esta iniciativa es que el alumnado aprenda a través del storytelling\, de historias y experiencias reales de jóvenes\, en un entorno seguro de aprendizaje con paquetes didácticos listos para usar desarrollados por la Casa Ana Frank y sus colaboradores. \nEn la tercera sesión trataremos el antisemitismo en la actualidad utilizando las voces de la juventud judía y debatiendo diferentes maneras de trabajar con las historias en clase \nCada historia cuenta.  \nStories that Move no da respuestas fáciles a preguntas difíciles. Se invita a cada estudiante a explorar activamente su propia relación con los temas tratados: antisemitismo\, racismo y discriminación contra miembros del colectivo LGBT+\, personas musulmanas y personas gitanas. \nSon cuestiones que afectan a toda Europa\, dentro y fuera de las aulas. Si bien el equipo del proyecto internacional decidió centrarse en algunas de las minorías más amplias de Europa y con largas historias de discriminación\, también se han incluido experiencias de prejuicio y discriminación expresadas por jóvenes de minorías religiosas o con discapacidad. Se exploran en profundidad cinco términos\, que se repiten en la elección de vidas pasadas que se presentan. No obstante\, el enfoque es inclusivo: cada historia cuenta. Las historias recopiladas son diversas y ofrecen un marco y un punto de partida para hablar sobre identidad y discriminación. \nLas investigaciones indican que es más probable que las personas se involucren con un tema cuando lo comunica alguien que creen que es similar a ellas y que se enfrenta a las mismas preocupaciones y presiones que ellas. Por tanto\, utilizar voces de jóvenes es una manera eficaz de explorar los antecedentes y el impacto del discurso del odio\, la exclusión y la discriminación\, así como de destacar el hecho de que el antisemitismo\, el racismo y otras formas de discriminación son problemas prevalentes. Este enfoque de compañeros/as ofrece conocimientos importantes y puede empoderar a la gente joven para responder a la discriminación: “¡Si pueden hacerlo\, podemos hacerlo!”. Nuestra caja de herramientas fomenta la autorreflexión y los debates sobre lo que los alumnos y alumnas pueden hacer para responder adecuadamente a todas las formas de discriminación\, individualmente y como parte de un grupo. \nActividad online\, a través de videoconferencia (Zoom)\, libre\, previo registro en este enlace
URL:https://www.sefarad-israel.es/evento/cada-historia-cuenta-formacion-para-educadores-contra-el-antisemitismo-y-la-discriminacion-3a-sesion/
LOCATION:Actividad por videoconferencia
CATEGORIES:Conferencia,Conversaciones
ATTACH;FMTTYPE=image/jpeg:https://www.sefarad-israel.es/wp-content/uploads/2024/12/20250130-Formacion-educadores-ACTUALIDAD.jpg
END:VEVENT
BEGIN:VEVENT
DTSTART;TZID=Europe/Madrid:20250312T180000
DTEND;TZID=Europe/Madrid:20250312T180000
DTSTAMP:20260425T053215
CREATED:20250211T114836Z
LAST-MODIFIED:20250211T114836Z
UID:5483-1741802400-1741802400@www.sefarad-israel.es
SUMMARY:“Textos irónicos sefardíes con un poquito de misoginia.”
DESCRIPTION:Textos irónicos sefardíes con un poquito de misogínia es el título del libro de la investigadora Elena Romero y está publicado por la editorial Tirocinio de Barcelona. Esta investigación edita y estudia el contenido de un libro que apareció en Salónica en la imprenta Bezés hacia 1930. El libro se inicia con una obra de teatro a la que siguen otros 22 textos todos ellos de matiz irónico y tres de ellos con marcados signos de misoginia\, siendo también interesante la presencia de dos textos que se refieren sólo a musulmanes. \nElena Romero Castelló\, ha dedicado gran parte de su vida al estudio de la cultura y la literatura sefardíes a través de sus textos y es en la actualidad una de las mayores expertas en este campo de investigación a nivel nacional e internacional. Profesora de Investigación de CSIC en el Instituto de Lenguas y Culturas del Mediterráneo y Oriente Próximo\, y vinculada “ad honorem” entre los años 2012 y 2014. Su extensa labor investigadora ha dado como resultado la publicación de una veintena de libros y cerca de un centenar de artículos\, así como la participación en numerosos congresos y conferencias. \nEntrada libre hasta completar aforo.
URL:https://www.sefarad-israel.es/evento/textos-ironicos-sefardies-con-un-poquito-de-misoginia/
LOCATION:Centro Sefarad-Israel\, Calle Mayor\, 69\, Madrid\, Comunidad de Madrid\, 28013\, España
CATEGORIES:Conferencia,Conversaciones,Presentación
ATTACH;FMTTYPE=image/jpeg:https://www.sefarad-israel.es/wp-content/uploads/2025/02/20250312-ELENA-ROMERO-web.jpg
END:VEVENT
END:VCALENDAR