BEGIN:VCALENDAR
VERSION:2.0
PRODID:-//Centro Sefarad Israel - ECPv6.15.20//NONSGML v1.0//EN
CALSCALE:GREGORIAN
METHOD:PUBLISH
X-WR-CALNAME:Centro Sefarad Israel
X-ORIGINAL-URL:https://www.sefarad-israel.es
X-WR-CALDESC:Eventos para Centro Sefarad Israel
REFRESH-INTERVAL;VALUE=DURATION:PT1H
X-Robots-Tag:noindex
X-PUBLISHED-TTL:PT1H
BEGIN:VTIMEZONE
TZID:Europe/Madrid
BEGIN:DAYLIGHT
TZOFFSETFROM:+0100
TZOFFSETTO:+0200
TZNAME:CEST
DTSTART:20240331T010000
END:DAYLIGHT
BEGIN:STANDARD
TZOFFSETFROM:+0200
TZOFFSETTO:+0100
TZNAME:CET
DTSTART:20241027T010000
END:STANDARD
BEGIN:DAYLIGHT
TZOFFSETFROM:+0100
TZOFFSETTO:+0200
TZNAME:CEST
DTSTART:20250330T010000
END:DAYLIGHT
BEGIN:STANDARD
TZOFFSETFROM:+0200
TZOFFSETTO:+0100
TZNAME:CET
DTSTART:20251026T010000
END:STANDARD
BEGIN:DAYLIGHT
TZOFFSETFROM:+0100
TZOFFSETTO:+0200
TZNAME:CEST
DTSTART:20260329T010000
END:DAYLIGHT
BEGIN:STANDARD
TZOFFSETFROM:+0200
TZOFFSETTO:+0100
TZNAME:CET
DTSTART:20261025T010000
END:STANDARD
END:VTIMEZONE
BEGIN:VEVENT
DTSTART;TZID=Europe/Madrid:20250203T180000
DTEND;TZID=Europe/Madrid:20250203T180000
DTSTAMP:20260425T052915
CREATED:20250116T092405Z
LAST-MODIFIED:20250207T110352Z
UID:5318-1738605600-1738605600@www.sefarad-israel.es
SUMMARY:“La Memoria\, el Olvido y el Holocausto – cómo recordar lo que fue hecho para ser olvidado”
DESCRIPTION:En esta conferencia\, Nora Gaón\, especialista en Shoá\, que trabajó 20 años en el Museo de la Casa de los Combatientes del Gueto (Israel)\, hablará sobre la problemática del tema de la Memoria del Holocausto utilizando esas imágenes y la dificultad de recordar lo que fue hacho para ser olvidado. En Nora hay un constante cuestionamiento acerca de la naturaleza y la necesidad de la Memoria en general y la del Holocausto en particular. Durante todos sus años dedicados a la enseñanza de la Shoá ha tratado de descifrar ese acto perpetrado par ser invisible. \nDos viajes de memoria del Holocausto a Polonia y la visita a guetos y campos\, lugares centrales de la Shoá\, le otorgaron la posibilidad de utilizar su cámara fotográfica y con ella plasmar las imágenes que la memoria nos pide recordar. Las imágenes surgen y le dan forma al espejo compuesto de fragmentos. Los textos junto a las imágenes tratan de llenar el vacío y dan visibilidad de los actos invisibles nos hacen reflexionar. \nNora Gaón ostentó el cargo de directora del Departamento de Habla Hispana y Portuguesa del Museo Beit Lojamei haguetaot (Casa de los Combatientes del Gueto) (Israel) organizando y dirigiendo seminarios y produciendo materiales educativos en castellano acerca del Holocausto. Como conferencista en foros nacionales e internacionales\, trabajó temas de investigación como la resistencia judía durante el Holocausto (con énfasis en la resistencia espiritual); el arte en el Holocausto; la Memoria del Holocausto; Janusz Korczak\, educador humanista. Entre sus publicaciones se encuentran “Resistencia espiritual durante el Holocausto» en Nuestra Memoria\, (Museo del Holocausto\, Buenos Aires Argentina); «El Holocausto como práctica social» MUGAC (Centro De Estudios y Documentación sobre racismo y xenofobia)\, San Sebastián\, España; «Janusz Korczak\, educador humanista» Universidad ORT\, Montevideo\, Uruguay. \nSu más reciente tema de investigación es la memoria-el olvido y el Holocausto. La exposición de fotos que se proyectarán en la conferencia\, fueron tomadas por ella misma en Polonia\, fue expuesta también en Barcelona (Comunidad Bet Shalom) en enero del 2017\, en Madrid (Centro Sefarad Israel) y en otros lugares. \nEntrada libre hasta completar aforo.
URL:https://www.sefarad-israel.es/evento/la-memoria-el-olvido-y-el-holocausto-como-recordar-lo-que-fue-hecho-para-ser-olvidado/
LOCATION:Centro Sefarad-Israel\, Calle Mayor\, 69\, Madrid\, Comunidad de Madrid\, 28013\, España
CATEGORIES:Conferencia,Conversaciones
ATTACH;FMTTYPE=image/jpeg:https://www.sefarad-israel.es/wp-content/uploads/2025/01/20250203-Memoria-Olvido-y-Holocausto-web.jpg
END:VEVENT
BEGIN:VEVENT
DTSTART;TZID=Europe/Madrid:20250205T180000
DTEND;TZID=Europe/Madrid:20250205T180000
DTSTAMP:20260425T052915
CREATED:20250114T095618Z
LAST-MODIFIED:20250306T121011Z
UID:5292-1738778400-1738778400@www.sefarad-israel.es
SUMMARY:Introducción al judaísmo: un viaje desde los tiempos bíblicos hasta la actualidad.
DESCRIPTION:La historia del pueblo judío ha sido tratada por grandes historiadores\, en este caso\, su autor se plantea ofrecer una aproximación didáctica y de fácil acceso para conocer aspectos esenciales de esta apasionante historia. También reflexiona sobre los vínculos históricos y las relaciones entre las tres grandes religiones monoteístas. Esta es la historia y la cultura de la rica y diversa identidad judía. \nSu autor el Rabino Haim Casas (Córdoba\, 1981) es el director de los proyectos Makom Sefarad y La Sinagoga Abierta\, enfocados a difundir la cultura sefardí y la espiritualidad judía. Es graduado en la Facultad de Derecho de la Universidad de Sevilla y decidió dedicar su carrera a la divulgación de la cultura judeo-española. Fue responsable de actividades culturales en la Casa de Sefarad de Córdoba de 2005 a 2012\, fundó la primera congregación progresista en el sur de España\, Beit Rambam\, y abrió “Casa Mazal”\, un café cultural dedicado a la gastronomía sefardí. Se formó rabínicamente en el Leo Baeck College de Londres y fue ordenado rabino en 2017. Coopera con comunidades judías y organizaciones culturales en el Reino Unido\, Francia\, Suiza\, España y Marruecos. Actualmente cursa su doctorado en la Universidad de Córdoba sobre Inquisición y judeoconversos y es defensor de la diversidad del pueblo de Israel\, ademas ha colaborado en numerosas iniciativas de diálogo intercultural e interreligioso. \nEntrada libre hasta completar aforo.
URL:https://www.sefarad-israel.es/evento/introduccion-al-judaismo-un-viaje-desde-los-tiempos-biblicos-hasta-la-actualidad/
LOCATION:Centro Sefarad-Israel\, Calle Mayor\, 69\, Madrid\, Comunidad de Madrid\, 28013\, España
CATEGORIES:Conferencia,Conversaciones
ATTACH;FMTTYPE=image/jpeg:https://www.sefarad-israel.es/wp-content/uploads/2025/01/20250205-Introduccion-al-Judaismo-Web.jpg
END:VEVENT
BEGIN:VEVENT
DTSTART;TZID=Europe/Madrid:20250210T180000
DTEND;TZID=Europe/Madrid:20250210T180000
DTSTAMP:20260425T052915
CREATED:20250116T133357Z
LAST-MODIFIED:20250206T124249Z
UID:5343-1739210400-1739210400@www.sefarad-israel.es
SUMMARY:Conferencia: "Spanish Civil War in archival collections of the Jewish Historical Institute in Warsaw"
DESCRIPTION:En el ciclo de conferencias en torno a la exposición “Por vuestra libertad y la nuestra. Judíos en las Brigadas Internacionales”\, contamos con la participación de Szymon Pietrzykowski\, historiador del Jewish Historical Institute\, que hablará sobre los fondos relacionados con la Guerra Civil Española y que forman parte de los archivos del Instituto Histórico Judío de Varsovia y que resultan muy interesantes para comprender la participación de los brigadistas judíos en la contienda española y los nexos de relación desde entonces. \nLa conferencia es totalmente en inglés. \n \nLa actividad podrá seguirse únicamente a través del canal de YouTube de Centro Sefarad-Israel\, en este enlace
URL:https://www.sefarad-israel.es/evento/conferencia-spanish-civil-war-in-archival-collections-of-the-jewish-historical-institute-in-warsaw/
LOCATION:Actividad online. Canal de YouTube de Centro Sefarad-Israel
CATEGORIES:Conferencia,Conversaciones
ATTACH;FMTTYPE=image/jpeg:https://www.sefarad-israel.es/wp-content/uploads/2025/01/20250210-Acto-Brigadistas-web.jpg
END:VEVENT
BEGIN:VEVENT
DTSTART;TZID=Europe/Madrid:20250218T180000
DTEND;TZID=Europe/Madrid:20250218T180000
DTSTAMP:20260425T052915
CREATED:20250116T094935Z
LAST-MODIFIED:20250306T121054Z
UID:5321-1739901600-1739901600@www.sefarad-israel.es
SUMMARY:Lectura poética “Nos lo scusurran les bentos”
DESCRIPTION:El autor e investigador Pablo Sánchez presenta el resultado de su interesante investigación que tiene como resultado este libro de poemas publicado por la editorial Maresía. Hace un milenio\, la primera poesía en lengua romance de toda Europa nació de la mano de la comunidad judía de Al-Ándalus. Escribieron estos poemas en su propia evolución del latín\, diferente a todas las que se hablan hoy en día y que desapareció en el siglo XIII. Judías fueron igualmente sus últimas palabras\, que recopiló Maimónides en su exilio egipcio. Mil años después se ha escrito un nuevo poemario en esta lengua romance andalusí que presentamos en el Centro Sefarad-Israel en honor a la comunidad por la que ese idioma se ha conocido en el mundo. \nEl autor gaditano\, pero criado en Sevilla\, es licenciado en Historia del Arte y diplomado en la Escuela de Arte de Sevilla y en dirección cinematográfica en Séptima Ars y Ecam en Madrid. Actualmente forma parte de la plantilla del Museo del Prado. Aparte de su formación y trayectoria artística\, ha reconstruido el romance andalusí\, ha publicado la gramática de esta lengua en la editorial Almuzara\, así como las traducciones de El Principito (Ed. Tinterfass) y Alicia en el país de las Maravillas (Ed. Evertype). \nEntrada libre hasta completar aforo.
URL:https://www.sefarad-israel.es/evento/lectura-poetica-nos-lo-scusurran-les-bentos/
LOCATION:Centro Sefarad-Israel\, Calle Mayor\, 69\, Madrid\, Comunidad de Madrid\, 28013\, España
CATEGORIES:Conferencia,Conversaciones,Poesía
ATTACH;FMTTYPE=image/jpeg:https://www.sefarad-israel.es/wp-content/uploads/2025/01/20250218-Scusurran-les-bentos-web.jpg
END:VEVENT
BEGIN:VEVENT
DTSTART;TZID=Europe/Madrid:20250218T180000
DTEND;TZID=Europe/Madrid:20250218T200000
DTSTAMP:20260425T052915
CREATED:20241217T081707Z
LAST-MODIFIED:20241218T110512Z
UID:5213-1739901600-1739908800@www.sefarad-israel.es
SUMMARY:‘Cada historia cuenta’ Formación para educadores contra el antisemitismo y la discriminación (2ª Sesión)
DESCRIPTION:Herramienta didáctica de la mano de la Casa Ana Frank. \nLa Casa de Ana Frank en colaboración con la Universidad de Barcelona y Centro Sefarad-Israel\, ofrece la formación “Stories that move” en español dirigida a educadores en la que se trabajarán herramientas didácticas para abordar el antisemitismo\, el Holocausto y la discriminación en el aula. El objetivo de esta iniciativa es que el alumnado aprenda a través del storytelling\, de historias y experiencias reales de jóvenes\, en un entorno seguro de aprendizaje con paquetes didácticos listos para usar desarrollados por la Casa Ana Frank y sus colaboradores. \nEn la segunda sesión se tratarán Historias de vida\, el cambio y continuidad en relación con el antisemitismo\, el racismo y otras formas de discriminación. Utilizando el itinerario de aprendizaje 3\, con especial atención a las historias del Holocausto. \nCada historia cuenta.  \nStories that Move no da respuestas fáciles a preguntas difíciles. Se invita a cada estudiante a explorar activamente su propia relación con los temas tratados: antisemitismo\, racismo y discriminación contra miembros del colectivo LGBT+\, personas musulmanas y personas gitanas. \nSon cuestiones que afectan a toda Europa\, dentro y fuera de las aulas. Si bien el equipo del proyecto internacional decidió centrarse en algunas de las minorías más amplias de Europa y con largas historias de discriminación\, también se han incluido experiencias de prejuicio y discriminación expresadas por jóvenes de minorías religiosas o con discapacidad. Se exploran en profundidad cinco términos\, que se repiten en la elección de vidas pasadas que se presentan. No obstante\, el enfoque es inclusivo: cada historia cuenta. Las historias recopiladas son diversas y ofrecen un marco y un punto de partida para hablar sobre identidad y discriminación. \nLas investigaciones indican que es más probable que las personas se involucren con un tema cuando lo comunica alguien que creen que es similar a ellas y que se enfrenta a las mismas preocupaciones y presiones que ellas. Por tanto\, utilizar voces de jóvenes es una manera eficaz de explorar los antecedentes y el impacto del discurso del odio\, la exclusión y la discriminación\, así como de destacar el hecho de que el antisemitismo\, el racismo y otras formas de discriminación son problemas prevalentes. Este enfoque de compañeros/as ofrece conocimientos importantes y puede empoderar a la gente joven para responder a la discriminación: “¡Si pueden hacerlo\, podemos hacerlo!”. Nuestra caja de herramientas fomenta la autorreflexión y los debates sobre lo que los alumnos y alumnas pueden hacer para responder adecuadamente a todas las formas de discriminación\, individualmente y como parte de un grupo. \nActividad online\, a través de videoconferencia (Zoom)\, libre\, previo registro en este enlace
URL:https://www.sefarad-israel.es/evento/cada-historia-cuenta-formacion-para-educadores-contra-el-antisemitismo-y-la-discriminacion-a-sesion/
LOCATION:Actividad por videoconferencia
CATEGORIES:Conferencia,Conversaciones
ATTACH;FMTTYPE=image/jpeg:https://www.sefarad-israel.es/wp-content/uploads/2024/12/20250130-Formacion-educadores-ACTUALIDAD.jpg
END:VEVENT
BEGIN:VEVENT
DTSTART;TZID=Europe/Madrid:20250219T180000
DTEND;TZID=Europe/Madrid:20250219T180000
DTSTAMP:20260425T052915
CREATED:20250120T121932Z
LAST-MODIFIED:20250306T121236Z
UID:5353-1739988000-1739988000@www.sefarad-israel.es
SUMMARY:Ciclo Kubrick: Conferencia de Nicolás Melini
DESCRIPTION:Stanley Kubrick el director de cine\, guionista\, productor y fotógrafo judío estadounidense nacionalizado británico está considerado como uno de los cineastas más influyentes del siglo XX\, hay que destacar su amplitud de temas siendo creador de películas de gran carga simbólica que se vuelven esenciales para cada uno de los ámbitos tratados. Centro Sefarad-Israel junto a Nicolás Melini\, escritor\, cineasta y promotor cultural quiere recordar esta figura ofreciendo un ciclo en el que se puedan ver algunas de sus películas emblemáticas. \n\nEmpezamos el ciclo con una conferencia de Nicolás Melini\, quien introducirá el ciclo y nos hablará de algunas claves de este singular creador quien supo captar la esencia de la ira y supo adelantar el futuro de la Inteligencia artificial.  \n\nEntrada libre hasta completar aforo.
URL:https://www.sefarad-israel.es/evento/ciclo-kubrik-conferencia-de-nicolas-melini/
LOCATION:Centro Sefarad-Israel\, Calle Mayor\, 69\, Madrid\, Comunidad de Madrid\, 28013\, España
CATEGORIES:Conferencia,Conversaciones
ATTACH;FMTTYPE=image/jpeg:https://www.sefarad-israel.es/wp-content/uploads/2025/01/20250119-Conferencia-melini-web.jpg
END:VEVENT
BEGIN:VEVENT
DTSTART;TZID=Europe/Madrid:20250220T180000
DTEND;TZID=Europe/Madrid:20250220T180000
DTSTAMP:20260425T052915
CREATED:20250114T115724Z
LAST-MODIFIED:20250128T111243Z
UID:5307-1740074400-1740074400@www.sefarad-israel.es
SUMMARY:El místico amor platónico en León Hebreo y Elías Canetti
DESCRIPTION:La Dra. Jadwiga Clea Moreno-Szypowska nos ofrece una interesante conferencia que encuentra claves para entender la conexión entre dos autores separados por el tiempo. Judá Abravanel\, más conocido como León Hebreo\, intelectual sefardí del siglo XVI\, define en Los diálogos del amor el concepto que aparece en el título. Su obra\, un tratado filosófico ‒que reúne todo lo que los pensadores anteriores habían escrito sobre este noble sentimiento‒ gozó de una gran popularidad en su época\, convirtiéndose en un modelo para sus contemporáneos. Este tratado fue traducido al español por el Inca Garcilaso de la Vega. Miguel de Cervantes polemiza con él en el prólogo a la primera parte del Quijote\, sugiriendo que el amor que describe está muy lejos de la realidad. La visión de un amor idealizado\, que el amante Filón siente por la casta Sofía\, condujo a Elías Canetti ‒pensador sefardí nacido en Bulgaria‒ a crear el retrato de Dr. Sonne\, figura clave de la obra El juego de ojos (Das Augenspiel). El amor hacia un Intelecto divino\, al cual se llega únicamente mediante un esfuerzo intelectual empleado en un diálogo filosófico\, puede ser visto como la manifestación de un amor místico de raíces judaicas. León Hebreo –nacido en Portugal en el siglo XVI y exiliado en Italia‒ eligió el idioma de su nueva patria como su lengua de creación; Elías Canetti –nacido en Bulgaria en el siglo XX y residente en Suiza‒ escribió en alemán. Sin embargo\, a estos personajes lejanos en el tiempo y en el espacio\, les une el origen judeoespañol y\, relacionado con él\, el enorme bagaje de la tradición exegética hebrea que lleva a ambos a una muy parecida loa de un amor frío\, puramente intelectual. \nLa Dra. Jadwiga Clea Moreno-Szypowska es profesora adjunta en el Departamento de Literatura y Renacimiento y de la Literatura Europea del Instituto de Investigación Literaria de la Academia Polaca de Ciencias\, donde investiga la cultura judía en la España medieval\, las huellas del pensamiento judío en la literatura española del Siglo de Oro y el pensamiento de los sefardíes contemporáneos. \nLa conferencia podrá seguirse únicamente a través de este enlace. \n 
URL:https://www.sefarad-israel.es/evento/el-mistico-amor-platonico-en-leon-hebreo-y-elias-canetti/
LOCATION:Actividad online. Canal de YouTube de Centro Sefarad-Israel
CATEGORIES:Conferencia,Conversaciones
ATTACH;FMTTYPE=image/jpeg:https://www.sefarad-israel.es/wp-content/uploads/2025/01/20250220-amor-platonico-web.jpg
END:VEVENT
BEGIN:VEVENT
DTSTART;TZID=Europe/Madrid:20250224T180000
DTEND;TZID=Europe/Madrid:20250224T180000
DTSTAMP:20260425T052915
CREATED:20250121T095248Z
LAST-MODIFIED:20250306T121132Z
UID:5374-1740420000-1740420000@www.sefarad-israel.es
SUMMARY:El campus estadounidense y el ángulo ciego antisemita.
DESCRIPTION:V CICLO DE CONFERENCIAS “FILOSOFÍA Y PENSAMIENTO JUDÍO” \nLa Red Internacional de Pensamiento Judío (RIPEJ)\, el Grupo de Investigación Historia y Ontología del Presente\, y el Instituto Universitario de Ciencias de las Religiones\, junto con el Departamento de Filosofía y Sociedad de la Universidad Complutense de Madrid y el Centro Sefarad-Israel\, organizan la quinta edición del ciclo “Filosofía y pensamiento judío”. \nDurante el curso 2024-25\, profesores y académicos de diferentes universidades reflexionarán sobre los aportes del mundo judío a la filosofía\, así como sobre los grandes pensadores judíos de la historia \nEn esta tercera sesión\, Alejandro Baer nos presentará una charla titulada: El campus estadounidense y el ángulo ciego antisemita. \nEn los días posteriores al 7 de octubre de 2023\, se propagaron en círculos académicos de los Estados Unidos (y más tarde en Europa) discursos y movilizaciones que justificaban los ataques perpetrados por Hamás contra civiles israelíes como legítima resistencia anticolonial. ¿Cómo se llegó a este punto? En esta conferencia\, Alejandro Baer analizará las fuentes teóricas e ideológicas que hicieron que las universidades se volvieran un terreno proclive al antisemitismo y con escasas defensas para identificarlo. La charla se basará en tres casos vividos en la Universidad de Minnesota\, donde Baer fue catedrático de Sociología y director del Center for Holocaust and Genocide Studies entre 2012 y 2022. \nEl conferenciante es Investigador científico OPIS en el CSIC. Coorganiza el Grupo de Graduados Interdisciplinario de Estudios sobre el Holocausto\, el Genocidio y la Violencia Masiva. Interesado por las consecuencias socio-políticas de las narrativas de la memoria y la delicada relación entre los procesos de recuerdo colectivo\, las iniciativas de reconciliación y las demandas de justicia en las sociedades posconflicto o posautoritarias. \nEntrada libre hasta completar aforo.
URL:https://www.sefarad-israel.es/evento/el-campus-estadounidense-y-el-angulo-ciego-antisemita/
LOCATION:Centro Sefarad-Israel\, Calle Mayor\, 69\, Madrid\, Comunidad de Madrid\, 28013\, España
CATEGORIES:Conferencia,Conversaciones
ATTACH;FMTTYPE=image/jpeg:https://www.sefarad-israel.es/wp-content/uploads/2025/01/20250224-campus-estadounidense-web.jpg
END:VEVENT
BEGIN:VEVENT
DTSTART;TZID=Europe/Madrid:20250225T180000
DTEND;TZID=Europe/Madrid:20250225T180000
DTSTAMP:20260425T052915
CREATED:20250116T105536Z
LAST-MODIFIED:20250306T121259Z
UID:5325-1740506400-1740506400@www.sefarad-israel.es
SUMMARY:Presentación de libro: Crítica de la razón maquinal
DESCRIPTION:El pensador ambulante de la filosofía agonista se ejercita en un pensar al margen del tiempo. Se trata de la más radical emancipación concebida por el espíritu humano. El gesto de una inteligencia que se ha puesto a salvo del imán temporal. El ensayo puede ser leído con la cautela que recomendaba Marco Aurelio en sus Meditaciones\, según la parsimonia que esperaba Pico della Mirándola en sus Conclusiones o con la prudencia de Baltasar Gracián en su Oráculo manual. Las conjeturas que enuncia la Crítica de la razón maquinal despliegan los motivos de una nueva perplejidad. Apelando al más vivaz de los asombros\, el ensayo de literatura gnómica propone recuperar una atenta incredulidad y despertar la vívida conciencia del enigma temporal. \nBasilio Baltasar es escritor y editor\, autor de Todos los días del mundo (Bitzoc)\, Críticas ejemplares (BB ed; Bitzoc)\, Pastoral iraquí (Alfaguara)\, El intelectual rampante (KRK)\, El Apocalipsis según San Goliat (KRK). Nos presenta su reciente ensayo: Crítica de la razón maquinal (KRK)\, una reflexión profunda fuera de los márgenes del tiempo y de nuestro tiempo. \nHa sido director editorial de Bitzoc y de Seix Barral\, director del periódico El día del Mundo\, de la Fundación Bartolomé March y de la Fundación Santillana\, y también dirigió el programa de exposiciones de arte y antropología Culturas del mundo (1989-1996). En la actualidad Colabora con La Vanguardia y con Jot Down. Preside el prestigioso jurado del Prix Formentor y es director de la Fundación Formentor. \nEn el encuentro para hablar de Crítica de la razón maquinal dialogará con el escritor Jon Juaristi. \nEntrada libre hasta completar aforo.
URL:https://www.sefarad-israel.es/evento/presentacion-de-libro-critica-de-la-razon-maquinal/
LOCATION:Centro Sefarad-Israel\, Calle Mayor\, 69\, Madrid\, Comunidad de Madrid\, 28013\, España
CATEGORIES:Conferencia,Conversaciones
ATTACH;FMTTYPE=image/jpeg:https://www.sefarad-israel.es/wp-content/uploads/2025/01/20250225-Razon-Maquinal-web.jpg
END:VEVENT
BEGIN:VEVENT
DTSTART;TZID=Europe/Madrid:20250227T180000
DTEND;TZID=Europe/Madrid:20250227T180000
DTSTAMP:20260425T052915
CREATED:20250121T075316Z
LAST-MODIFIED:20250306T121323Z
UID:5371-1740679200-1740679200@www.sefarad-israel.es
SUMMARY:Conferencia: Cristóbal Colón fue un judío.
DESCRIPTION:Tras la reciente polémica acerca de la identidad de Cristóbal\, Francesc Albardaner Llorens (Barcelona 1949) estudioso del tema del origen de Cristóbal Colón desde el año 1986\, nos ofrecerá una valiosa conferencia acerca de sus conclusiones.  Francesc Albardaner fue socio y presidente del Centro de Estudios Colombinos de Barcelona y actualmente es miembro de la Sociedad Catalana de Estudios Históricos del Instituto de Estudios Catalanes y socio de la Institución Catalana de Genética y Heráldica. Ha participado en simposios internacionales y ha publicado artículos tanto en Italia como en Estados Unidos y en Canadá. Fue asesor de Discovery Channel en la producción del documental: “Columbus\, Secrets from the Grave”\, que en España fue rebautizado como: “Enigma Colón. \nSus estudios en los archivos valencianos le han conducido a reformar sus planteamientos iniciales hasta defender que Cristóbal Colón tuvo una identidad dual: judío converso de Valencia y “genovés de nación”\, por ser hijo de un inmigrante ligur en la ciudad de Valencia e hijo de madre judía conversa\, perteneciente a una familia de tejedores de seda de Valencia. Defiende que en su juventud Colón fue educado en la religión judía\, que la biblia que leyó fue la biblia judía y en la escuela le enseñaron a escribir en las lenguas castellana\, catalana y hebrea. Los análisis del ADN de Colón parecen apoyar la hipótesis de que Colón perteneció al mundo judío sefardí\, lo que pone en entredicho su origen en la ciudad de Génova\, contradiciendo la teoría tradicional y ortodoxa de ser Cristóbal Colón nacido en Génova. \nEntrada libre hasta completar aforo.
URL:https://www.sefarad-israel.es/evento/conferencia-cristobal-colon-fue-un-judio/
LOCATION:Centro Sefarad-Israel\, Calle Mayor\, 69\, Madrid\, Comunidad de Madrid\, 28013\, España
CATEGORIES:Conferencia,Conversaciones
ATTACH;FMTTYPE=image/jpeg:https://www.sefarad-israel.es/wp-content/uploads/2025/01/20250227-Colon-Judio-web.jpg
END:VEVENT
END:VCALENDAR