BEGIN:VCALENDAR
VERSION:2.0
PRODID:-//Centro Sefarad Israel - ECPv6.15.20//NONSGML v1.0//EN
CALSCALE:GREGORIAN
METHOD:PUBLISH
X-WR-CALNAME:Centro Sefarad Israel
X-ORIGINAL-URL:https://www.sefarad-israel.es
X-WR-CALDESC:Eventos para Centro Sefarad Israel
REFRESH-INTERVAL;VALUE=DURATION:PT1H
X-Robots-Tag:noindex
X-PUBLISHED-TTL:PT1H
BEGIN:VTIMEZONE
TZID:Europe/Madrid
BEGIN:DAYLIGHT
TZOFFSETFROM:+0100
TZOFFSETTO:+0200
TZNAME:CEST
DTSTART:20250330T010000
END:DAYLIGHT
BEGIN:STANDARD
TZOFFSETFROM:+0200
TZOFFSETTO:+0100
TZNAME:CET
DTSTART:20251026T010000
END:STANDARD
BEGIN:DAYLIGHT
TZOFFSETFROM:+0100
TZOFFSETTO:+0200
TZNAME:CEST
DTSTART:20260329T010000
END:DAYLIGHT
BEGIN:STANDARD
TZOFFSETFROM:+0200
TZOFFSETTO:+0100
TZNAME:CET
DTSTART:20261025T010000
END:STANDARD
BEGIN:DAYLIGHT
TZOFFSETFROM:+0100
TZOFFSETTO:+0200
TZNAME:CEST
DTSTART:20270328T010000
END:DAYLIGHT
BEGIN:STANDARD
TZOFFSETFROM:+0200
TZOFFSETTO:+0100
TZNAME:CET
DTSTART:20271031T010000
END:STANDARD
END:VTIMEZONE
BEGIN:VEVENT
DTSTART;TZID=Europe/Madrid:20260416T180000
DTEND;TZID=Europe/Madrid:20260416T180000
DTSTAMP:20260422T180606
CREATED:20260324T115605Z
LAST-MODIFIED:20260410T074431Z
UID:9353-1776362400-1776362400@www.sefarad-israel.es
SUMMARY:Los que quedaron
DESCRIPTION:Proyección y coloquio\nEn el marco del Día de Conmemoración de las Víctimas del Holocausto en Hungría\, la Embajada de Hungría en España propone una sesión especial en torno a una de las películas más sensibles del cine europeo reciente sobre la posguerra. Los que quedaron (Akik maradtak\, 2019)\, dirigida por Barnabás Tóth\, ofrece una mirada íntima a las secuelas humanas del Holocausto\, alejándose del relato histórico directo para centrarse en la reconstrucción emocional de los supervivientes. \nAmbientada en la Hungría de posguerra\, la película narra la relación entre Aladár\, un médico que ha perdido a su familia\, y Klára\, una adolescente marcada por la ausencia de sus padres. A través de un vínculo complejo y profundamente humano\, la historia aborda el duelo\, la soledad y la necesidad de recuperar la confianza en los demás\, explorando la resiliencia desde una perspectiva delicada y conmovedora. \nLa ministra consejera y segunda jefatura de la Embajada de Hungría en España\, Judit József\, dará unas palabras de bienvenida. A continuación\, se proyectará la película\, seguida de un breve coloquio en el que contaremos con la intervención de la superviviente Eva Leitman-Bohrer y la profesora experta en enseñanza del Holocausto Cecilia Levit\, moderado por Rosa Méndez\, responsable del Área de Educación\, Holocausto y Antisemitismo de Centro Sefarad-Israel. \nVersión original en húngaro con subtítulos en español\nPelícula no recomendada para menores de 12 años\nInscripción previa necesaria en el enlace de abajo | Plazas limitadas\n \n 
URL:https://www.sefarad-israel.es/evento/los-que-quedaron/
LOCATION:Centro Sefarad-Israel\, Calle Mayor\, 69\, Madrid\, Comunidad de Madrid\, 28013\, España
CATEGORIES:Cine,Coloquio
ATTACH;FMTTYPE=image/png:https://www.sefarad-israel.es/wp-content/uploads/2026/03/Los-que-quedaron.png
END:VEVENT
END:VCALENDAR