BEGIN:VCALENDAR
VERSION:2.0
PRODID:-//Centro Sefarad Israel - ECPv6.15.20//NONSGML v1.0//EN
CALSCALE:GREGORIAN
METHOD:PUBLISH
X-ORIGINAL-URL:https://www.sefarad-israel.es
X-WR-CALDESC:Eventos para Centro Sefarad Israel
REFRESH-INTERVAL;VALUE=DURATION:PT1H
X-Robots-Tag:noindex
X-PUBLISHED-TTL:PT1H
BEGIN:VTIMEZONE
TZID:Europe/Madrid
BEGIN:DAYLIGHT
TZOFFSETFROM:+0100
TZOFFSETTO:+0200
TZNAME:CEST
DTSTART:20250330T010000
END:DAYLIGHT
BEGIN:STANDARD
TZOFFSETFROM:+0200
TZOFFSETTO:+0100
TZNAME:CET
DTSTART:20251026T010000
END:STANDARD
BEGIN:DAYLIGHT
TZOFFSETFROM:+0100
TZOFFSETTO:+0200
TZNAME:CEST
DTSTART:20260329T010000
END:DAYLIGHT
BEGIN:STANDARD
TZOFFSETFROM:+0200
TZOFFSETTO:+0100
TZNAME:CET
DTSTART:20261025T010000
END:STANDARD
BEGIN:DAYLIGHT
TZOFFSETFROM:+0100
TZOFFSETTO:+0200
TZNAME:CEST
DTSTART:20270328T010000
END:DAYLIGHT
BEGIN:STANDARD
TZOFFSETFROM:+0200
TZOFFSETTO:+0100
TZNAME:CET
DTSTART:20271031T010000
END:STANDARD
END:VTIMEZONE
BEGIN:VEVENT
DTSTART;TZID=Europe/Madrid:20260204T190000
DTEND;TZID=Europe/Madrid:20260204T190000
DTSTAMP:20260425T141037
CREATED:20260120T135412Z
LAST-MODIFIED:20260203T104914Z
UID:8669-1770231600-1770231600@www.sefarad-israel.es
SUMMARY:Un dolor real · Ciclo de cine La familia judía tras el Holocausto
DESCRIPTION:Centro Sefarad-Israel\, en colaboración con Casa de América\, presenta La familia judía tras el Holocausto\, un ciclo cinematográfico enmarcado en el Mes de la Memoria del Holocausto\, con motivo del Día Internacional en Memoria de las Víctimas del Holocausto. A través de tres largometrajes de ficción\, el ciclo propone una reflexión sobre las huellas profundas que el genocidio nazi dejó en las vidas\, identidades y vínculos familiares de los supervivientes judíos.\nLas películas seleccionadas abordan\, desde distintos lenguajes y miradas\, los procesos de reconstrucción personal y colectiva en la posguerra\, donde la familia emerge como espacio de memoria\, resistencia y dignidad. \nUn dolor real (Estados Unidos\, 2024)\nDirigida y escrita por Jesse Eisenberg\, con Kieran Culkin y Jennifer Grey.\nSinopsis: Dos primos viajan a Polonia tras la muerte de su abuela para visitar los lugares donde vivió antes de la Segunda Guerra Mundial y\, en el proceso\, enfrentarse al pasado de su familia. A través de un tour sobre el Holocausto\, la película aborda el peso de la memoria intergeneracional y la complejidad de heredar historias traumáticas. \nLa familia judía tras el Holocausto · Ciclo de cine\nDel 3 al 5 de febrero de 2026 · 19:00 h\nSala de Cine Iberia · Casa de América\nEntrada libre hasta completar aforo
URL:https://www.sefarad-israel.es/evento/un-dolor-real-ciclo-de-cine-la-familia-judia/
LOCATION:Cine de Casa de America. Sala Iberia.\, Casa de América. Plaza de Cibeles\, s/n\, Madrid\, Comunidad de Madrid\, 28014\, España
CATEGORIES:Ciclo_Lafamiliajudía,Cine,La familia judía tras el Holocausto
ATTACH;FMTTYPE=image/jpeg:https://www.sefarad-israel.es/wp-content/uploads/2026/01/arealpain_frame.jpg
END:VEVENT
END:VCALENDAR