BEGIN:VCALENDAR
VERSION:2.0
PRODID:-//Centro Sefarad Israel - ECPv6.15.20//NONSGML v1.0//EN
CALSCALE:GREGORIAN
METHOD:PUBLISH
X-WR-CALNAME:Centro Sefarad Israel
X-ORIGINAL-URL:https://www.sefarad-israel.es
X-WR-CALDESC:Eventos para Centro Sefarad Israel
REFRESH-INTERVAL;VALUE=DURATION:PT1H
X-Robots-Tag:noindex
X-PUBLISHED-TTL:PT1H
BEGIN:VTIMEZONE
TZID:Europe/Madrid
BEGIN:DAYLIGHT
TZOFFSETFROM:+0100
TZOFFSETTO:+0200
TZNAME:CEST
DTSTART:20250330T010000
END:DAYLIGHT
BEGIN:STANDARD
TZOFFSETFROM:+0200
TZOFFSETTO:+0100
TZNAME:CET
DTSTART:20251026T010000
END:STANDARD
BEGIN:DAYLIGHT
TZOFFSETFROM:+0100
TZOFFSETTO:+0200
TZNAME:CEST
DTSTART:20260329T010000
END:DAYLIGHT
BEGIN:STANDARD
TZOFFSETFROM:+0200
TZOFFSETTO:+0100
TZNAME:CET
DTSTART:20261025T010000
END:STANDARD
BEGIN:DAYLIGHT
TZOFFSETFROM:+0100
TZOFFSETTO:+0200
TZNAME:CEST
DTSTART:20270328T010000
END:DAYLIGHT
BEGIN:STANDARD
TZOFFSETFROM:+0200
TZOFFSETTO:+0100
TZNAME:CET
DTSTART:20271031T010000
END:STANDARD
END:VTIMEZONE
BEGIN:VEVENT
DTSTART;TZID=Europe/Madrid:20260217T120000
DTEND;TZID=Europe/Madrid:20260217T120000
DTSTAMP:20260424T171922
CREATED:20260121T115157Z
LAST-MODIFIED:20260203T101155Z
UID:8730-1771329600-1771329600@www.sefarad-israel.es
SUMMARY:Sarah Kuźmicz. El rostro significa lo infinito
DESCRIPTION:Acto de Inauguración\nEl rostro significa lo infinito propone una aproximación íntima y reflexiva a la pintura figurativa contemporánea a partir de una pregunta esencial: ¿qué revela un rostro cuando deja de ser mera representación y se convierte en espacio de sentido? En esta exposición\, el rostro se presenta como lugar de memoria\, silencio y trascendencia\, una superficie donde lo visible remite a lo que no puede decirse del todo. \nPolaca de nacimiento y mexicana de adopción\, Sarah Kuźmicz creció en una familia de artistas y se formó en dibujo y pintura antes de ampliar estudios en Cracovia\, en el taller del pintor y grabador Jan Bujnowski. Su obra\, desarrollada en óleo y técnicas de dibujo\, despliega un lenguaje sobrio y contenido\, situado entre la figuración y la contemplación interior. \nLa muestra dialoga con proyectos anteriores presentados en museos de México y consolida una trayectoria coherente y profundamente personal. \nDesde el 18 de febrero hasta el 10 de abril 2026\nAcceso libre hasta completar aforo\n 
URL:https://www.sefarad-israel.es/evento/sarah-kuzmicz-el-rostro-significa-lo-infinito/
LOCATION:Centro Sefarad-Israel\, Calle Mayor\, 69\, Madrid\, Comunidad de Madrid\, 28013\, España
CATEGORIES:Inauguración de exposición
ATTACH;FMTTYPE=image/png:https://www.sefarad-israel.es/wp-content/uploads/2026/01/header-web-Sarah.png
END:VEVENT
BEGIN:VEVENT
DTSTART;TZID=Europe/Madrid:20260217T180000
DTEND;TZID=Europe/Madrid:20260217T200000
DTSTAMP:20260424T171922
CREATED:20251202T114751Z
LAST-MODIFIED:20260130T114507Z
UID:8304-1771351200-1771358400@www.sefarad-israel.es
SUMMARY:“Cada historia cuenta” – 2ª sesión: Historias de vida y unidades didácticas
DESCRIPTION:Esta sesión profundiza en las cinco unidades didácticas de Stories that Move\, con especial atención a las historias de vida que permiten analizar el antisemitismo\, el racismo y otras formas de discriminación. Una visita guiada al corazón narrativo de la herramienta\, indispensable para su aplicación en el aula. \nLa Casa de Ana Frank en colaboración con la Universidad de Barcelona y Centro Sefarad-Israel\, ofrece la formación Stories that Move\, dirigida a educadores en la que se trabajarán herramientas didácticas para abordar el antisemitismo\, el Holocausto y la discriminación en el aula. El objetivo de esta iniciativa es que el alumnado aprenda sobre estas temáticas a través del storytelling\, de historias y experiencias reales de jóvenes\, en un entorno seguro de aprendizaje. \nStories that Move: formación para educadores
URL:https://www.sefarad-israel.es/evento/cada-historia-cuenta-2a-sesion-historias-de-vida-y-unidades-didacticas/
LOCATION:Actividad online. Canal de YouTube de Centro Sefarad-Israel
CATEGORIES:Online,Stories that Move,Taller
ATTACH;FMTTYPE=image/jpeg:https://www.sefarad-israel.es/wp-content/uploads/2025/12/20250318-misericordia-web-1-scaled.jpg
END:VEVENT
END:VCALENDAR